BEGIN:VCALENDAR
VERSION:2.0
PRODID:-//BPhD e. V. - ECPv6.15.20//NONSGML v1.0//EN
CALSCALE:GREGORIAN
METHOD:PUBLISH
X-ORIGINAL-URL:https://www.bphd.de
X-WR-CALDESC:Veranstaltungen für BPhD e. V.
REFRESH-INTERVAL;VALUE=DURATION:PT1H
X-Robots-Tag:noindex
X-PUBLISHED-TTL:PT1H
BEGIN:VTIMEZONE
TZID:Europe/Berlin
BEGIN:DAYLIGHT
TZOFFSETFROM:+0100
TZOFFSETTO:+0200
TZNAME:CEST
DTSTART:20230326T010000
END:DAYLIGHT
BEGIN:STANDARD
TZOFFSETFROM:+0200
TZOFFSETTO:+0100
TZNAME:CET
DTSTART:20231029T010000
END:STANDARD
BEGIN:DAYLIGHT
TZOFFSETFROM:+0100
TZOFFSETTO:+0200
TZNAME:CEST
DTSTART:20240331T010000
END:DAYLIGHT
BEGIN:STANDARD
TZOFFSETFROM:+0200
TZOFFSETTO:+0100
TZNAME:CET
DTSTART:20241027T010000
END:STANDARD
BEGIN:DAYLIGHT
TZOFFSETFROM:+0100
TZOFFSETTO:+0200
TZNAME:CEST
DTSTART:20250330T010000
END:DAYLIGHT
BEGIN:STANDARD
TZOFFSETFROM:+0200
TZOFFSETTO:+0100
TZNAME:CET
DTSTART:20251026T010000
END:STANDARD
END:VTIMEZONE
BEGIN:VEVENT
DTSTART;TZID=Europe/Berlin:20240118T200000
DTEND;TZID=Europe/Berlin:20240118T220000
DTSTAMP:20260421T174527
CREATED:20231214T133332Z
LAST-MODIFIED:20231214T133332Z
UID:55190207-1705608000-1705615200@www.bphd.de
SUMMARY:BPhD x VdPP: Pharmazie meets Public Health: Apotheken im Fokus
DESCRIPTION:Der Bundesverband der Pharmaziestudierenden Deutschlands (BPhD) und der Verein demokratischer Pharmazeutinnen und Pharmazeuten (VdPP) laden ein zum gemeinsamen Seminar: \n„Pharmazie meets Public Health: Apotheken im Fokus“ \nWann: Donnerstag\, 18.01.2024\, 20 – 22 Uhr\nWo: online\, Zoom \nInhalt:\nAls niederschwellige Anlaufstelle stellen Apotheken einen wesentlichen Teil der Primärversorgung dar. Die Bedeutung und das Potenzial der Verbindung von Pharmazie und Public Health zur Verbesserung der Gesundheit des Einzelnen sowie der Bevölkerung wird insgesamt immer wieder übersehen. Doch welche entscheidende Rolle können Apotheken in diesem Kontext spielen? Welche Strukturen bestehen bereits oder bieten Potenzial für die Zukunft\, und was genau ist eigentlich Public Health?\nDiese Veranstaltung knüpft an die gemeinsame Reihe des BPhD mit dem VdPP zu den pharmazeutischen Berufsfeldern an und widmet sich diesmal ganz dem Thema Pharmazie und Public Health in der Öffentlichen Apotheke. \nReferierende:\nDr. Udo Puteanus\, Apotheker\, VdPP-Vorstandsmitglied\n„Pharmazie und Public Health: Zum Hintergrund einer wichtigen Verknüpfung“\nDorothee Giese\, angestellte Apothekerin in Berlin\, MPH:\n„Public Health-Aspekte der Arzneimittelversorgung über Apotheken“\nGabriele Siemer\, PTA und BHC\, Gesundheitsamt Hamm\n„Public Health und Pharmazie: Aus der Perspektive eines Gesundheitsamtes“\nNach den drei Impulsvorträgen ist eine Diskussionsrunde vorgesehen\, wir freuen uns\, wenn Sie daran aktiv teilnehmen! \nAnmeldungen bitte über das Online-Formular: \nhttp://www.vdpp.de/termine/seminarreihe-pharmazie-und-public-health/ \nDie Teilnahme ist kostenlos; die Veranstaltung wird nicht aufgezeichnet.
URL:https://www.bphd.de/event/bphd-x-vdpp-pharmazie-meets-public-health-apotheken-im-fokus/
CATEGORIES:BPhD Veranstaltung
END:VEVENT
END:VCALENDAR