BEGIN:VCALENDAR
VERSION:2.0
PRODID:-//BPhD e. V. - ECPv6.15.20//NONSGML v1.0//EN
CALSCALE:GREGORIAN
METHOD:PUBLISH
X-ORIGINAL-URL:https://www.bphd.de
X-WR-CALDESC:Veranstaltungen für BPhD e. V.
REFRESH-INTERVAL;VALUE=DURATION:PT1H
X-Robots-Tag:noindex
X-PUBLISHED-TTL:PT1H
BEGIN:VTIMEZONE
TZID:Europe/Berlin
BEGIN:DAYLIGHT
TZOFFSETFROM:+0100
TZOFFSETTO:+0200
TZNAME:CEST
DTSTART:20220327T010000
END:DAYLIGHT
BEGIN:STANDARD
TZOFFSETFROM:+0200
TZOFFSETTO:+0100
TZNAME:CET
DTSTART:20221030T010000
END:STANDARD
BEGIN:DAYLIGHT
TZOFFSETFROM:+0100
TZOFFSETTO:+0200
TZNAME:CEST
DTSTART:20230326T010000
END:DAYLIGHT
BEGIN:STANDARD
TZOFFSETFROM:+0200
TZOFFSETTO:+0100
TZNAME:CET
DTSTART:20231029T010000
END:STANDARD
BEGIN:DAYLIGHT
TZOFFSETFROM:+0100
TZOFFSETTO:+0200
TZNAME:CEST
DTSTART:20240331T010000
END:DAYLIGHT
BEGIN:STANDARD
TZOFFSETFROM:+0200
TZOFFSETTO:+0100
TZNAME:CET
DTSTART:20241027T010000
END:STANDARD
END:VTIMEZONE
BEGIN:VEVENT
DTSTART;VALUE=DATE:20231106
DTEND;VALUE=DATE:20231111
DTSTAMP:20260421T210332
CREATED:20230829T095456Z
LAST-MODIFIED:20230829T095516Z
UID:55189735-1699228800-1699660799@www.bphd.de
SUMMARY:GMP basic course (english) online November 2023
DESCRIPTION:Registriert euch zuerst auf der Internetseite www.gmp-kurs.de und schreibt euch dann zum Kurs ein. Kleiner Tipp: Jede Fachschaft erhält einen kostenlosen Kursplatz pro Kalenderjahr. \nBei Fragen zu den kostenlosen Plätzen könnt ihr euch gerne jederzeit bei Verena unter extern@bphd.de melden.
URL:https://www.bphd.de/event/gmp-basic-course-english-online-november-2023/
CATEGORIES:Externe Veranstaltungen
END:VEVENT
BEGIN:VEVENT
DTSTART;TZID=Europe/Berlin:20231110T080000
DTEND;TZID=Europe/Berlin:20231112T170000
DTSTAMP:20260421T210332
CREATED:20230125T123943Z
LAST-MODIFIED:20230619T152149Z
UID:55180614-1699603200-1699808400@www.bphd.de
SUMMARY:135. Bundesverbandstagung
DESCRIPTION:
URL:https://www.bphd.de/event/135-bundesverbandstagung-in-cottbus/
LOCATION:Brandenburg an der Havel\, Magdeburger Straße 50\, Brandenburg an der Havel\, Brandenburg\, 14770\, Deutschland
CATEGORIES:BPhD Veranstaltung
END:VEVENT
BEGIN:VEVENT
DTSTART;VALUE=DATE:20231113
DTEND;VALUE=DATE:20231118
DTSTAMP:20260421T210332
CREATED:20230829T095545Z
LAST-MODIFIED:20230829T095559Z
UID:55189737-1699833600-1700265599@www.bphd.de
SUMMARY:GMP Grundlagenkurs (deutsch) online November 2023
DESCRIPTION:Registriert euch zuerst auf der Internetseite www.gmp-kurs.de und schreibt euch dann zum Kurs ein. Kleiner Tipp: Jede Fachschaft erhält einen kostenlosen Kursplatz pro Kalenderjahr. \nBei Fragen zu den kostenlosen Plätzen könnt ihr euch gerne jederzeit bei Verena unter extern@bphd.de melden.
URL:https://www.bphd.de/event/gmp-grundlagenkurs-deutsch-online-november-2023/
CATEGORIES:Externe Veranstaltungen
END:VEVENT
BEGIN:VEVENT
DTSTART;TZID=Europe/Berlin:20231123T190000
DTEND;TZID=Europe/Berlin:20231123T200000
DTSTAMP:20260421T210332
CREATED:20231029T123433Z
LAST-MODIFIED:20231107T162500Z
UID:55189960-1700766000-1700769600@www.bphd.de
SUMMARY:btS x BPhD future medicine event 2.0
DESCRIPTION:Du möchtest mehr über aktuelle Themen der Life-Sciences erfahren? Und Du möchtest gleichzeitig mehr über die btS und den BPhD in Erfahrung bringen und warum wir dieses gemeinsame Event veranstalten?  \nInterprofessionelle Zusammenarbeit ist die Zukunft der medizinischen Forschung und fängt bereits im Kleinen mit uns Studierenden an. Daher laden wir Dich zu unserem gemeinsamen Online-Event am 23. November um 19:00 Uhr ein. Es wird zwei spannende Vorträge zum Thema individualisierte Medizin geben: Im ersten Vortrag wird Dr. Johanna Wagner von single-cell Technologien berichten\, die zur besseren Charakterisierung von Tumoren genutzt werden. Im zweiten Vortrag wird Julian Quodbach über 3D Drucktechnologien in der Pharmazie berichten.  \nVortrag 1: Characterizing sarcoma tumor ecosystems at the single-cell level and with spatial resolution (Dr. sc. Nat. Johanna Wagner\, Postdoctotal fellow in the division of translational medicine (laboratory of Prof. Dr. Fröhling) at the DKFZ and NCT Heidelberg)\nJohanna will present the application of spectral flow cytometry to comprehensively map the sarcoma-associated immune environment. Her team uses a cyclic immunofluorescence approach to characterize how the cellular components of sarcoma tumor ecosystems are spatially arranged.  \n  \nVortrag 2: 3D Drucktechnologien in der Pharmazie (Julian Quodbach\, Assistant Professor at the Department of Pharmaceutics at Utrecht University)\n3D Drucktechnologien finden immer mehr industrielle Anwendungen\, von Hörgeräten über Implantate bis zu Raketenmotoren. Auch in der Pharmazie werden die Möglichkeiten des 3D Drucks intensiv erforscht. In diesem Vortrag werden die grundlegenden Motivationen für die Verwendung von 3D Drucktechnologien in der Pharmazie erklärt. Es wird eine Einführung in verschiedene Drucktechnologien gegeben und auf verschiedene Anwendungsfälle und -szenarien eingegangen.\n  \nNach den Vorträgen hast Du die Möglichkeit\, Deine Frage den Sprechern zu stellen und mit anderen Studierenden zu diskutieren. Melde Dich bis zum 22.11.2023 unter folgendem Link an:   \n  \nhttp://qr.bts-sciecon.de/FutureMedicine  \n  \nWir freuen uns auf dich! 
URL:https://www.bphd.de/event/bts-x-bphd-future-medicine-event-2-0/
END:VEVENT
END:VCALENDAR