BEGIN:VCALENDAR
VERSION:2.0
PRODID:-//BPhD e. V. - ECPv6.15.20//NONSGML v1.0//EN
CALSCALE:GREGORIAN
METHOD:PUBLISH
X-WR-CALNAME:BPhD e. V.
X-ORIGINAL-URL:https://www.bphd.de
X-WR-CALDESC:Veranstaltungen für BPhD e. V.
REFRESH-INTERVAL;VALUE=DURATION:PT1H
X-Robots-Tag:noindex
X-PUBLISHED-TTL:PT1H
BEGIN:VTIMEZONE
TZID:Europe/Berlin
BEGIN:DAYLIGHT
TZOFFSETFROM:+0100
TZOFFSETTO:+0200
TZNAME:CEST
DTSTART:20220327T010000
END:DAYLIGHT
BEGIN:STANDARD
TZOFFSETFROM:+0200
TZOFFSETTO:+0100
TZNAME:CET
DTSTART:20221030T010000
END:STANDARD
BEGIN:DAYLIGHT
TZOFFSETFROM:+0100
TZOFFSETTO:+0200
TZNAME:CEST
DTSTART:20230326T010000
END:DAYLIGHT
BEGIN:STANDARD
TZOFFSETFROM:+0200
TZOFFSETTO:+0100
TZNAME:CET
DTSTART:20231029T010000
END:STANDARD
BEGIN:DAYLIGHT
TZOFFSETFROM:+0100
TZOFFSETTO:+0200
TZNAME:CEST
DTSTART:20240331T010000
END:DAYLIGHT
BEGIN:STANDARD
TZOFFSETFROM:+0200
TZOFFSETTO:+0100
TZNAME:CET
DTSTART:20241027T010000
END:STANDARD
END:VTIMEZONE
BEGIN:VEVENT
DTSTART;TZID=Europe/Berlin:20230706T200000
DTEND;TZID=Europe/Berlin:20230706T220000
DTSTAMP:20260422T032402
CREATED:20230624T101843Z
LAST-MODIFIED:20230829T095658Z
UID:55189343-1688673600-1688680800@www.bphd.de
SUMMARY:VdPP x BPhD: Interessante Berufsfelder von Apotheker*innen im Dienst der Öffentlichen Gesundheit
DESCRIPTION:Liebe Studierende\,  \nWas macht man eigentlich als Apotheker*in bei der Weltgesundheitsorganisation (WHO)? Oder in der Publizistik\, zum Beispiel bei Stiftung Warentest?  \nDas erfahrt ihr am 06. Juli um 20 Uhr in zwei Vorträgen über Zoom!   \nIm Rahmen der Reihe „Pharmazie und Public Health: Interessante Berufsfelder von Apotheker*innen im Dienst der Öffentlichen Gesundheit“ stellen euch ein Mitarbeit der WHO und eine Apotheker\, die bei der Stiftung Warentest arbeitet\, ihre Berufsfelder vor.  \nWenn ihr schon an einer Veranstaltung  der Reihe teilgenommen haben\, bekommt ihr automatisch rechtzeitig den Zoom-Link zugeschickt.  \nAnsonsten erfolgt die Anmeldung unter http://www.vdpp.de/termine/seminarreihe-pharmazie-und-public-health/.   \nLiebe Grüße  \nAntonia und Anika (Beauftragte für Public Health) 
URL:https://www.bphd.de/event/vortrag-interessante-berufsfelder-von-apothekerinnen-im-dienst-der-oeffentlichen-gesundheit/
CATEGORIES:BPhD Veranstaltung
END:VEVENT
END:VCALENDAR