BEGIN:VCALENDAR
VERSION:2.0
PRODID:-//BPhD e. V. - ECPv6.15.20//NONSGML v1.0//EN
CALSCALE:GREGORIAN
METHOD:PUBLISH
X-ORIGINAL-URL:https://www.bphd.de
X-WR-CALDESC:Veranstaltungen für BPhD e. V.
REFRESH-INTERVAL;VALUE=DURATION:PT1H
X-Robots-Tag:noindex
X-PUBLISHED-TTL:PT1H
BEGIN:VTIMEZONE
TZID:Europe/Berlin
BEGIN:DAYLIGHT
TZOFFSETFROM:+0100
TZOFFSETTO:+0200
TZNAME:CEST
DTSTART:20220327T010000
END:DAYLIGHT
BEGIN:STANDARD
TZOFFSETFROM:+0200
TZOFFSETTO:+0100
TZNAME:CET
DTSTART:20221030T010000
END:STANDARD
BEGIN:DAYLIGHT
TZOFFSETFROM:+0100
TZOFFSETTO:+0200
TZNAME:CEST
DTSTART:20230326T010000
END:DAYLIGHT
BEGIN:STANDARD
TZOFFSETFROM:+0200
TZOFFSETTO:+0100
TZNAME:CET
DTSTART:20231029T010000
END:STANDARD
BEGIN:DAYLIGHT
TZOFFSETFROM:+0100
TZOFFSETTO:+0200
TZNAME:CEST
DTSTART:20240331T010000
END:DAYLIGHT
BEGIN:STANDARD
TZOFFSETFROM:+0200
TZOFFSETTO:+0100
TZNAME:CET
DTSTART:20241027T010000
END:STANDARD
END:VTIMEZONE
BEGIN:VEVENT
DTSTART;TZID=Europe/Berlin:20230413T200000
DTEND;TZID=Europe/Berlin:20230413T210000
DTSTAMP:20260422T074040
CREATED:20230409T125237Z
LAST-MODIFIED:20230409T125237Z
UID:55186492-1681416000-1681419600@www.bphd.de
SUMMARY:AG Gesundheitspolitik – Homöopathie Positionspapier
DESCRIPTION:Zum Beitrag \nZum Meeting
URL:https://www.bphd.de/event/ag-gesundheitspolitik-homoeopathie-positionspapier/
CATEGORIES:AG Gesundheitspolitik
END:VEVENT
BEGIN:VEVENT
DTSTART;VALUE=DATE:20230414
DTEND;VALUE=DATE:20230417
DTSTAMP:20260422T074040
CREATED:20220805T001127Z
LAST-MODIFIED:20220805T001227Z
UID:55175900-1681430400-1681689599@www.bphd.de
SUMMARY:WorkshopWeekend
DESCRIPTION:
URL:https://www.bphd.de/event/workshopweekend/
CATEGORIES:BPhD Veranstaltung
END:VEVENT
BEGIN:VEVENT
DTSTART;TZID=Europe/Berlin:20230420T190000
DTEND;TZID=Europe/Berlin:20230420T200000
DTSTAMP:20260422T074040
CREATED:20230407T123134Z
LAST-MODIFIED:20230407T123134Z
UID:55186115-1682017200-1682020800@www.bphd.de
SUMMARY:Online-Event: btS x BPhD: Future Medicine
DESCRIPTION:Du möchtest mehr über aktuelle Themen der Life-Sciences erfahren? Und Du möchtest gleichzeitig mehr über die btS und den BPhD in Erfahrung bringen und warum wir dieses gemeinsame Event veranstalten?  \nInterprofessionelle Zusammenarbeit ist die Zukunft der medizinischen Forschung und fängt bereits im Kleinen mit uns Studierenden an. \nZum Beitrag \nZur Anmeldung
URL:https://www.bphd.de/event/online-event-bts-x-bphd-future-medicine/
CATEGORIES:Interprofessioneller Austausch
END:VEVENT
BEGIN:VEVENT
DTSTART;TZID=Europe/Berlin:20230420T200000
DTEND;TZID=Europe/Berlin:20230420T220000
DTSTAMP:20260422T074040
CREATED:20230407T123952Z
LAST-MODIFIED:20230407T124022Z
UID:55186123-1682020800-1682028000@www.bphd.de
SUMMARY:Online-Event: VdPP x BPhD: Pharmazeutische Berufsfelder im Bereich Public Health
DESCRIPTION:Zum Beitrag \nZur Anmeldung
URL:https://www.bphd.de/event/online-event-vdpp-x-bphd-pharmazeutische-berufsfelder-im-bereich-public-health/
CATEGORIES:Interprofessioneller Austausch
END:VEVENT
END:VCALENDAR