BEGIN:VCALENDAR
VERSION:2.0
PRODID:-//BPhD e. V. - ECPv6.15.20//NONSGML v1.0//EN
CALSCALE:GREGORIAN
METHOD:PUBLISH
X-ORIGINAL-URL:https://www.bphd.de
X-WR-CALDESC:Veranstaltungen für BPhD e. V.
REFRESH-INTERVAL;VALUE=DURATION:PT1H
X-Robots-Tag:noindex
X-PUBLISHED-TTL:PT1H
BEGIN:VTIMEZONE
TZID:Europe/Berlin
BEGIN:DAYLIGHT
TZOFFSETFROM:+0100
TZOFFSETTO:+0200
TZNAME:CEST
DTSTART:20220327T010000
END:DAYLIGHT
BEGIN:STANDARD
TZOFFSETFROM:+0200
TZOFFSETTO:+0100
TZNAME:CET
DTSTART:20221030T010000
END:STANDARD
BEGIN:DAYLIGHT
TZOFFSETFROM:+0100
TZOFFSETTO:+0200
TZNAME:CEST
DTSTART:20230326T010000
END:DAYLIGHT
BEGIN:STANDARD
TZOFFSETFROM:+0200
TZOFFSETTO:+0100
TZNAME:CET
DTSTART:20231029T010000
END:STANDARD
BEGIN:DAYLIGHT
TZOFFSETFROM:+0100
TZOFFSETTO:+0200
TZNAME:CEST
DTSTART:20240331T010000
END:DAYLIGHT
BEGIN:STANDARD
TZOFFSETFROM:+0200
TZOFFSETTO:+0100
TZNAME:CET
DTSTART:20241027T010000
END:STANDARD
END:VTIMEZONE
BEGIN:VEVENT
DTSTART;TZID=Europe/Berlin:20230202T200000
DTEND;TZID=Europe/Berlin:20230202T210000
DTSTAMP:20260422T104247
CREATED:20230129T142653Z
LAST-MODIFIED:20230129T142723Z
UID:55180678-1675368000-1675371600@www.bphd.de
SUMMARY:AG Positionspapier Canabis
DESCRIPTION:Zum Beitrag \nZum Meeting
URL:https://www.bphd.de/event/ag-positionspapier-canabis/
CATEGORIES:AG Gesundheitspolitik,Public Health
END:VEVENT
BEGIN:VEVENT
DTSTART;TZID=Europe/Berlin:20230209T200000
DTEND;TZID=Europe/Berlin:20230209T220000
DTSTAMP:20260422T104247
CREATED:20230129T145251Z
LAST-MODIFIED:20230129T145301Z
UID:55180688-1675972800-1675980000@www.bphd.de
SUMMARY:VdPP x BPhD Vortrag: Klinische Prüfung und Weiterbildung
DESCRIPTION:Zum Beitrag \nZur Anmeldung
URL:https://www.bphd.de/event/vdpp-x-bphd-vortrag-klinische-pruefung-und-weiterbildung/
CATEGORIES:Public Health
END:VEVENT
BEGIN:VEVENT
DTSTART;TZID=Europe/Berlin:20230223T140000
DTEND;TZID=Europe/Berlin:20230223T160000
DTSTAMP:20260422T104247
CREATED:20230220T014711Z
LAST-MODIFIED:20230220T014711Z
UID:55182405-1677160800-1677168000@www.bphd.de
SUMMARY:Tagesspiegel: Fachforum Gesundheit: Seltene Erkrankungen
DESCRIPTION:Zum Beitrag \nMehr Infos
URL:https://www.bphd.de/event/tagesspiegel-fachforum-gesundheit-seltene-erkrankungen/
CATEGORIES:Externe Veranstaltungen
END:VEVENT
BEGIN:VEVENT
DTSTART;TZID=Europe/Berlin:20230225T093000
DTEND;TZID=Europe/Berlin:20230225T170000
DTSTAMP:20260422T104247
CREATED:20230220T014549Z
LAST-MODIFIED:20230220T014549Z
UID:55182403-1677317400-1677344400@www.bphd.de
SUMMARY:15. Zukunftskonkress öffentliche Apotheke in Bonn
DESCRIPTION:Zum Beitrag
URL:https://www.bphd.de/event/15-zukunftskonkress-oeffentliche-apotheke-in-bonn/
CATEGORIES:Externe Veranstaltungen
END:VEVENT
BEGIN:VEVENT
DTSTART;TZID=Europe/Berlin:20230228T193000
DTEND;TZID=Europe/Berlin:20230228T220000
DTSTAMP:20260422T104247
CREATED:20230211T185517Z
LAST-MODIFIED:20230223T061600Z
UID:55181352-1677612600-1677621600@www.bphd.de
SUMMARY:Online Seminar: 10 Mythen der Selbstständigkeit
DESCRIPTION:Zusammen mit Susanne Kersten (Treuhand)\, Sabrina Tibi (DÄF) und Viktoria Battran (Glockenapotheke Pfaffingen). \nZum Zoom-Meeting
URL:https://www.bphd.de/event/online-seminar-10-mythen-der-selbststaendigkeit/
CATEGORIES:Jungpharm
END:VEVENT
END:VCALENDAR