BEGIN:VCALENDAR
VERSION:2.0
PRODID:-//BPhD e. V. - ECPv6.15.20//NONSGML v1.0//EN
CALSCALE:GREGORIAN
METHOD:PUBLISH
X-ORIGINAL-URL:https://www.bphd.de
X-WR-CALDESC:Veranstaltungen für BPhD e. V.
REFRESH-INTERVAL;VALUE=DURATION:PT1H
X-Robots-Tag:noindex
X-PUBLISHED-TTL:PT1H
BEGIN:VTIMEZONE
TZID:Europe/Berlin
BEGIN:DAYLIGHT
TZOFFSETFROM:+0100
TZOFFSETTO:+0200
TZNAME:CEST
DTSTART:20210328T010000
END:DAYLIGHT
BEGIN:STANDARD
TZOFFSETFROM:+0200
TZOFFSETTO:+0100
TZNAME:CET
DTSTART:20211031T010000
END:STANDARD
BEGIN:DAYLIGHT
TZOFFSETFROM:+0100
TZOFFSETTO:+0200
TZNAME:CEST
DTSTART:20220327T010000
END:DAYLIGHT
BEGIN:STANDARD
TZOFFSETFROM:+0200
TZOFFSETTO:+0100
TZNAME:CET
DTSTART:20221030T010000
END:STANDARD
BEGIN:DAYLIGHT
TZOFFSETFROM:+0100
TZOFFSETTO:+0200
TZNAME:CEST
DTSTART:20230326T010000
END:DAYLIGHT
BEGIN:STANDARD
TZOFFSETFROM:+0200
TZOFFSETTO:+0100
TZNAME:CET
DTSTART:20231029T010000
END:STANDARD
END:VTIMEZONE
BEGIN:VEVENT
DTSTART;TZID=Europe/Berlin:20221013T200000
DTEND;TZID=Europe/Berlin:20221013T213000
DTSTAMP:20260422T165116
CREATED:20221006T225349Z
LAST-MODIFIED:20221006T225349Z
UID:55177033-1665691200-1665696600@www.bphd.de
SUMMARY:AG Gesundheitspolitik: Impfen in Apotheken
DESCRIPTION:Mit dem Impfen in Apotheken sind den Apotheker*innen neue Kompetenzen in der Gesundheitsversorgung an die Hand gegeben worden. War Impfen noch bis vor einigen Jahren eine exklusiv ärztliche Aufgabe\, so sind mittlerweile auch Apotheken mit der Impfung gegen Grippe betraut. Bisher wurde die Grippeimpfung in Modellprojekten in einzelnen Apotheken durchgeführt\, nun soll sie zur Regelleistung verstetigt werden.  \nAuch für die COVID-19-Impfungen holte man die Apotheken mit ins Boot\, um möglichst schnell möglichst viele Patient*innen zu erreichen. Wie sind die Erfahrungen\, wie sieht die Zukunft des Impfens in Apotheken aus und was sagen die Ärzt*innen dazu?  \nDazu haben wir Ramin Heydarpour\, Apotheker bei Pfizer und Dr. med. Claudia Kaufhold eingeladen\, um uns darüber mit euch auszutauschen und zu diskutieren.  \nFreue mich auf zahlreiches Erscheinen!  \nJulian (Gesundheitspolitik)  \nZugangsdaten:  \nhttps://us06web.zoom.us/j/88292801325?pwd=K2FpVCtjK3Y3SWs3WWUvT2kvTzZuUT09  \nMeeting-ID: 882 9280 1325  \nKenncode: AGGP 
URL:https://www.bphd.de/event/ag-gesundheitspolitik-impfen-in-apotheken/
CATEGORIES:AG-Treffen
END:VEVENT
BEGIN:VEVENT
DTSTART;VALUE=DATE:20221020
DTEND;VALUE=DATE:20221021
DTSTAMP:20260422T165116
CREATED:20220928T225003Z
LAST-MODIFIED:20220928T225003Z
UID:55176864-1666224000-1666310399@www.bphd.de
SUMMARY:Let's Talk: Campus
DESCRIPTION:Let’s Talk:Campus ist ein eintägiges Hybrid-Event zur Zukunft des Campuslebens. Ein besonderer Schwerpunkt liegt dabei auf Fragen der studentischen Partizipation und der Nachhaltigkeit. Das Tagesprogramm basiert vor allem aus Einreichungen aus der Community. Auf einem politischen Abend bringen wir Politiker*innen mit Studierenden zusammen. \nZur Anmeldung \nZum Programm \nZu den Speaker*innen
URL:https://www.bphd.de/event/lets-talk-campus/
CATEGORIES:Studium +
END:VEVENT
BEGIN:VEVENT
DTSTART;TZID=Europe/Berlin:20221020T200000
DTEND;TZID=Europe/Berlin:20221020T220000
DTSTAMP:20260422T165116
CREATED:20221007T221959Z
LAST-MODIFIED:20221007T222615Z
UID:55177118-1666296000-1666303200@www.bphd.de
SUMMARY:VdPP x BPhD Veranstaltungsreihe
DESCRIPTION:Zum Beitrag \nZur Anmeldung
URL:https://www.bphd.de/event/vdpp-x-bphd-veranstaltungsreihe/
CATEGORIES:BPhD Veranstaltung
END:VEVENT
BEGIN:VEVENT
DTSTART;TZID=Europe/Berlin:20221027T100000
DTEND;TZID=Europe/Berlin:20221027T170000
DTSTAMP:20260422T165116
CREATED:20221007T203825Z
LAST-MODIFIED:20221007T203825Z
UID:55177090-1666864800-1666890000@www.bphd.de
SUMMARY:ScieCon 2022 in München
DESCRIPTION:Du hast Dein Studium im Bereich der Life Sciences demnächst absolviert und bist nun auf Jobsuche? Oder bist Du schon mitten im Bewerbungsprozess und suchst nach neuen Perspektiven? Dann besuche die Karrieremesse ScieCon der btS e.V.! \nZum Beitrag \nZur Webseite
URL:https://www.bphd.de/event/sciecon-2022-in-muenchen/
CATEGORIES:Studium +
END:VEVENT
END:VCALENDAR