BEGIN:VCALENDAR
VERSION:2.0
PRODID:-//BPhD e. V. - ECPv6.15.20//NONSGML v1.0//EN
CALSCALE:GREGORIAN
METHOD:PUBLISH
X-WR-CALNAME:BPhD e. V.
X-ORIGINAL-URL:https://www.bphd.de
X-WR-CALDESC:Veranstaltungen für BPhD e. V.
REFRESH-INTERVAL;VALUE=DURATION:PT1H
X-Robots-Tag:noindex
X-PUBLISHED-TTL:PT1H
BEGIN:VTIMEZONE
TZID:Europe/Berlin
BEGIN:DAYLIGHT
TZOFFSETFROM:+0100
TZOFFSETTO:+0200
TZNAME:CEST
DTSTART:20210328T010000
END:DAYLIGHT
BEGIN:STANDARD
TZOFFSETFROM:+0200
TZOFFSETTO:+0100
TZNAME:CET
DTSTART:20211031T010000
END:STANDARD
BEGIN:DAYLIGHT
TZOFFSETFROM:+0100
TZOFFSETTO:+0200
TZNAME:CEST
DTSTART:20220327T010000
END:DAYLIGHT
BEGIN:STANDARD
TZOFFSETFROM:+0200
TZOFFSETTO:+0100
TZNAME:CET
DTSTART:20221030T010000
END:STANDARD
BEGIN:DAYLIGHT
TZOFFSETFROM:+0100
TZOFFSETTO:+0200
TZNAME:CEST
DTSTART:20230326T010000
END:DAYLIGHT
BEGIN:STANDARD
TZOFFSETFROM:+0200
TZOFFSETTO:+0100
TZNAME:CET
DTSTART:20231029T010000
END:STANDARD
END:VTIMEZONE
BEGIN:VEVENT
DTSTART;TZID=Europe/Berlin:20220811T203000
DTEND;TZID=Europe/Berlin:20220811T223000
DTSTAMP:20260422T194715
CREATED:20220805T112114Z
LAST-MODIFIED:20220805T112114Z
UID:55175921-1660249800-1660257000@www.bphd.de
SUMMARY:AG Gesundheitspolitik – Homöopathie
DESCRIPTION:Thema: Homöopathie in der Offizin  \nSimila similibus curentur  \nSo der Grundsatz der Homöopathie\, den Samuel Hahnemann im 18. Jahrhundert als Begründer dieses Bereichs der Alternativmedizin formulierte. Trotz ihrer umstrittenen Wirksamkeit hält sich die Homöopathie bis heute in der Offizin. Für homöopathische Präparate gelten einige Sonderregelungen\, wie beispielsweise deren Registrierung ohne das klassische Zulassungsverfahren.  \nWir möchten nun mit euch darüber diskutieren: Ist die Homöopathie für die Apotheke noch zeitgemäß? Inwieweit müssen Patient*innen über die Risiken aufgeklärt werden und ist das bei jedem Apothekenbesuch notwendig?  \nWir freuen uns auf euch und eure Ansichten!  \nZugangsdaten:  \nhttps://us06web.zoom.us/j/88292801325?pwd=K2FpVCtjK3Y3SWs3WWUvT2kvTzZuUT09  \nMeeting-ID: 882 9280 1325  \nKenncode: AGGP 
URL:https://www.bphd.de/event/ag-gesundheitspolitik-homoeopathie/
CATEGORIES:AG-Treffen
END:VEVENT
END:VCALENDAR