BEGIN:VCALENDAR
VERSION:2.0
PRODID:-//BPhD e. V. - ECPv6.15.20//NONSGML v1.0//EN
CALSCALE:GREGORIAN
METHOD:PUBLISH
X-ORIGINAL-URL:https://www.bphd.de
X-WR-CALDESC:Veranstaltungen für BPhD e. V.
REFRESH-INTERVAL;VALUE=DURATION:PT1H
X-Robots-Tag:noindex
X-PUBLISHED-TTL:PT1H
BEGIN:VTIMEZONE
TZID:Europe/Berlin
BEGIN:DAYLIGHT
TZOFFSETFROM:+0100
TZOFFSETTO:+0200
TZNAME:CEST
DTSTART:20210328T010000
END:DAYLIGHT
BEGIN:STANDARD
TZOFFSETFROM:+0200
TZOFFSETTO:+0100
TZNAME:CET
DTSTART:20211031T010000
END:STANDARD
BEGIN:DAYLIGHT
TZOFFSETFROM:+0100
TZOFFSETTO:+0200
TZNAME:CEST
DTSTART:20220327T010000
END:DAYLIGHT
BEGIN:STANDARD
TZOFFSETFROM:+0200
TZOFFSETTO:+0100
TZNAME:CET
DTSTART:20221030T010000
END:STANDARD
BEGIN:DAYLIGHT
TZOFFSETFROM:+0100
TZOFFSETTO:+0200
TZNAME:CEST
DTSTART:20230326T010000
END:DAYLIGHT
BEGIN:STANDARD
TZOFFSETFROM:+0200
TZOFFSETTO:+0100
TZNAME:CET
DTSTART:20231029T010000
END:STANDARD
END:VTIMEZONE
BEGIN:VEVENT
DTSTART;TZID=Europe/Berlin:20220609T200000
DTEND;TZID=Europe/Berlin:20220609T220000
DTSTAMP:20260422T222732
CREATED:20220606T143415Z
LAST-MODIFIED:20220606T143415Z
UID:55174707-1654804800-1654812000@www.bphd.de
SUMMARY:AG Gesundheitspolitik: Dispensierrecht für Ärzt*innen – gute Idee oder Trotzreaktion? 
DESCRIPTION:AG Gesundheitspolitik am 09.06.2022 um 20:00 Uhr  \nThema: Dispensierrecht für Ärzt*innen – gute Idee oder Trotzreaktion?  \nDas sogenannte ‚Dispensierrecht für Ärzte‘ bedeutet\, dass es auch Ärzt*innen gestattet wäre\, Arzneimittel an Patient*innen zu verkaufen\, zu lagern und rezepturmäßig herzustellen. Bisher ist dies den Apotheken vorbehalten.  \nMit einer spannenden Podiumsdiskussion auf der vergangenen 132. BVT in Leipzig haben wir erneut erlebt\, dass die Frage nach dem Dispensierrecht von derjenigen des Impfens in Apotheken in der Diskussion nicht zu trennen ist. Es wird zwischen dem Apothekerberuf und dem Arztberuf häufig als „quid pro quo“ aufgefasst.  \nWir wollen mit euch darüber diskutieren. Was bedeutet das Dispensierrecht für unser Berufsbild und was können wir aus der Debatte lernen? Wir freuen uns auf euch!  \n  \nZugangsdaten:  \nhttps://us06web.zoom.us/j/82023828691?pwd=aWlMSHo0TXZQREx2MkExR2QzUzhMZz09  \n  \nMeeting-ID: 820 2382 8691  \nKenncode: AGGP 
URL:https://www.bphd.de/event/ag-gesundheitspolitik-dispensierrecht-fuer-aerztinnen-gute-idee-oder-trotzreaktion/
CATEGORIES:AG-Treffen
END:VEVENT
BEGIN:VEVENT
DTSTART;VALUE=DATE:20220624
DTEND;VALUE=DATE:20220627
DTSTAMP:20260422T222732
CREATED:20220320T153905Z
LAST-MODIFIED:20220518T180838Z
UID:55173782-1656028800-1656287999@www.bphd.de
SUMMARY:19. PharmaWeekend in Jena
DESCRIPTION:Hier geht es zur Anmeldung.
URL:https://www.bphd.de/event/19-pharmaweekend-in-jena/
CATEGORIES:BPhD Veranstaltung
END:VEVENT
END:VCALENDAR