BEGIN:VCALENDAR
VERSION:2.0
PRODID:-//BPhD e. V. - ECPv6.15.20//NONSGML v1.0//EN
CALSCALE:GREGORIAN
METHOD:PUBLISH
X-ORIGINAL-URL:https://www.bphd.de
X-WR-CALDESC:Veranstaltungen für BPhD e. V.
REFRESH-INTERVAL;VALUE=DURATION:PT1H
X-Robots-Tag:noindex
X-PUBLISHED-TTL:PT1H
BEGIN:VTIMEZONE
TZID:Europe/Berlin
BEGIN:DAYLIGHT
TZOFFSETFROM:+0100
TZOFFSETTO:+0200
TZNAME:CEST
DTSTART:20210328T010000
END:DAYLIGHT
BEGIN:STANDARD
TZOFFSETFROM:+0200
TZOFFSETTO:+0100
TZNAME:CET
DTSTART:20211031T010000
END:STANDARD
BEGIN:DAYLIGHT
TZOFFSETFROM:+0100
TZOFFSETTO:+0200
TZNAME:CEST
DTSTART:20220327T010000
END:DAYLIGHT
BEGIN:STANDARD
TZOFFSETFROM:+0200
TZOFFSETTO:+0100
TZNAME:CET
DTSTART:20221030T010000
END:STANDARD
BEGIN:DAYLIGHT
TZOFFSETFROM:+0100
TZOFFSETTO:+0200
TZNAME:CEST
DTSTART:20230326T010000
END:DAYLIGHT
BEGIN:STANDARD
TZOFFSETFROM:+0200
TZOFFSETTO:+0100
TZNAME:CET
DTSTART:20231029T010000
END:STANDARD
END:VTIMEZONE
BEGIN:VEVENT
DTSTART;TZID=Europe/Berlin:20220512T200000
DTEND;TZID=Europe/Berlin:20220512T220000
DTSTAMP:20260422T235301
CREATED:20220509T162957Z
LAST-MODIFIED:20220509T162957Z
UID:55174441-1652385600-1652392800@www.bphd.de
SUMMARY:AG Gesundheitspolitik: Die COVAX-Initiative: Wie ist der aktuelle Stand? 
DESCRIPTION:Ziel der COVAX-Initiative ist es\, Impfstoffe gegen das Coronavirus weltweit zu verteilen und somit auch Entwicklungsländern einen Zugang zu den Impfungen zu ermöglichen.  \nBereits im Januar 2021 haben wir in der AG Gesundheitspolitik die Ziele der Initiative besprochen und darüber diskutiert. Am Donnerstag wollen wir uns anschauen\, wie der aktuelle Stand von COVAX ist und ob die Ziele erreicht wurden.   \nIn Zeiten\, in denen in Deutschland ein Großteil der Bevölkerung mehrfach gegen Covid-19 geimpft ist und das Virus mittlerweile zum Alltag gehört\, vergisst man oft\, wie die Corona-Situation in anderen Ländern jenseits Europas aussieht. Lasst uns darüber gemeinsam ins Gespräch kommen!  \nZugangsdaten:  \nhttps://us06web.zoom.us/j/89359641500?pwd=M0Nzc3VoNHV3b0ZRWFQ3d21vRy9ZUT09  \nMeeting-ID: 893 5964 1500  \nKenncode: AGGP 
URL:https://www.bphd.de/event/ag-gesundheitspolitik-die-covax-initiative-wie-ist-der-aktuelle-stand/
CATEGORIES:AG-Treffen
END:VEVENT
BEGIN:VEVENT
DTSTART;VALUE=DATE:20220526
DTEND;VALUE=DATE:20220530
DTSTAMP:20260422T235301
CREATED:20220118T211358Z
LAST-MODIFIED:20220118T211358Z
UID:55173254-1653523200-1653868799@www.bphd.de
SUMMARY:132. Bundesverbandstagung in Leipzig
DESCRIPTION:
URL:https://www.bphd.de/event/132-bundesverbandstagung-in-leipzig/
CATEGORIES:BPhD Veranstaltung
END:VEVENT
END:VCALENDAR