BEGIN:VCALENDAR
VERSION:2.0
PRODID:-//BPhD e. V. - ECPv6.15.20//NONSGML v1.0//EN
CALSCALE:GREGORIAN
METHOD:PUBLISH
X-WR-CALNAME:BPhD e. V.
X-ORIGINAL-URL:https://www.bphd.de
X-WR-CALDESC:Veranstaltungen für BPhD e. V.
REFRESH-INTERVAL;VALUE=DURATION:PT1H
X-Robots-Tag:noindex
X-PUBLISHED-TTL:PT1H
BEGIN:VTIMEZONE
TZID:Europe/Berlin
BEGIN:DAYLIGHT
TZOFFSETFROM:+0100
TZOFFSETTO:+0200
TZNAME:CEST
DTSTART:20210328T010000
END:DAYLIGHT
BEGIN:STANDARD
TZOFFSETFROM:+0200
TZOFFSETTO:+0100
TZNAME:CET
DTSTART:20211031T010000
END:STANDARD
BEGIN:DAYLIGHT
TZOFFSETFROM:+0100
TZOFFSETTO:+0200
TZNAME:CEST
DTSTART:20220327T010000
END:DAYLIGHT
BEGIN:STANDARD
TZOFFSETFROM:+0200
TZOFFSETTO:+0100
TZNAME:CET
DTSTART:20221030T010000
END:STANDARD
BEGIN:DAYLIGHT
TZOFFSETFROM:+0100
TZOFFSETTO:+0200
TZNAME:CEST
DTSTART:20230326T010000
END:DAYLIGHT
BEGIN:STANDARD
TZOFFSETFROM:+0200
TZOFFSETTO:+0100
TZNAME:CET
DTSTART:20231029T010000
END:STANDARD
END:VTIMEZONE
BEGIN:VEVENT
DTSTART;TZID=Europe/Berlin:20220410T080000
DTEND;TZID=Europe/Berlin:20220410T170000
DTSTAMP:20260423T010814
CREATED:20220410T152304Z
LAST-MODIFIED:20220410T152304Z
UID:55174012-1649577600-1649610000@www.bphd.de
SUMMARY:Treffen der AG Gesundheitspolitik Thema: Pharmazeutische Dienstleistungen: Frankreich macht’s vor!
DESCRIPTION:Treffen der AG Gesundheitspolitik am 14.04.2022 um 20:00 Uhr auf Zoom\nThema: Pharmazeutische Dienstleistungen: Frankreich macht’s vor!  \n  \nApotheker*innen in Frankreich haben ein riesiges Reformpaket unterschrieben. Es beinhaltet unter anderem zusätzliche Beratung in Apotheken\, Betreuung chronisch Kranker\, Impfen und Telekonsultationen durch Apotheker*innen. Diese Reformen ähneln den derzeit in Deutschland verhandelten Pharmazeutischen Dienstleistungen sehr.  \nWelche Kompetenzen französische Apotheker*innen in Zukunft außerdem noch erhalten und welche Dienstleistungen in Deutschland denkbar wären\, wollen wir am Donnerstag um 20:00 Uhr bei der AG Gesundheitspolitik besprechen.  \nKommt gerne vorbei\, informiert euch über die Zukunft der Apotheke in Frankreich und Deutschland und diskutiert mit uns!  \n  \nZugangsdaten:  \nhttps://us06web.zoom.us/j/83736204400?pwd=eTU1Y2VqNWZYSHlVaWsxbkhVVlVRUT09  \nMeeting-ID: 837 3620 4400  \nKenncode: AGGP 
URL:https://www.bphd.de/event/treffen-der-ag-gesundheitspolitik-thema-pharmazeutische-dienstleistungen-frankreich-machts-vor/
CATEGORIES:AG-Treffen
END:VEVENT
BEGIN:VEVENT
DTSTART;TZID=Europe/Berlin:20220414T200000
DTEND;TZID=Europe/Berlin:20220414T220000
DTSTAMP:20260423T010814
CREATED:20220304T173342Z
LAST-MODIFIED:20220304T173342Z
UID:55173681-1649966400-1649973600@www.bphd.de
SUMMARY:Treffen der AG Gesundheitspolitik
DESCRIPTION:
URL:https://www.bphd.de/event/treffen-der-ag-gesundheitspolitik-4/
CATEGORIES:AG-Treffen
END:VEVENT
BEGIN:VEVENT
DTSTART;TZID=Europe/Berlin:20220418T080000
DTEND;TZID=Europe/Berlin:20220418T170000
DTSTAMP:20260423T010814
CREATED:20220418T174339Z
LAST-MODIFIED:20220418T174339Z
UID:55174075-1650268800-1650301200@www.bphd.de
SUMMARY:Bundesweiter Auslandsabend
DESCRIPTION:Es ist wieder soweit: Der Bundesweite Auslandsabend geht im April in die nächste Runde. Wenn ihr es schon kaum wieder abwarten könnt\, ins Ausland zu gehen\, dann ist dieser Abende der perfekte Einstieg in die Planung eures Auslandsaufenthaltes. \nBeim bundesweiten Auslandsabend am 28.04.22\, 19.00 gibt es interessante Vorträge und spannende Erfahrungsberichte zu verschiedenen Auslandsangeboten wie SEP\, Twinnet\, ERASMUS\, PJ/Famulatur im Ausland und wir informieren euch auch über EPSA\, IPSF und die Finanzierung eines solchen Aufenthalts. Im Anschluss beantworten wir auch gerne eure Fragen rund um Auslandsaufenthalte. \nDie Zugangsdaten zu der Veranstaltung: \nThema: Auslandsabend BPhD \nUhrzeit: 28.Apr..2022 07:00 PM Amsterdam\, Berlin\, Rom\, Stockholm\, Wien \nZoom-Meeting beitreten \nhttps://us06web.zoom.us/j/83557943505?pwd=S0NVdC9NUkZ4TzlXVGhkUFdqUFREQT09 \nMeeting-ID: 835 5794 3505 \nKenncode: Ausland \nMarkiert euch den Termin im Kalender – wir freuen uns auf euch! Schreibt uns bei Fragen gerne eine Mail an ausland@bphd.de. \nEuer Auslandsressort mit Xenia (International Mobility Officer)\, Marie-Madeleine (EPSA LS)\, Vy (IPSF CP) und Verena (Student Exchange Officer)
URL:https://www.bphd.de/event/bundesweiter-auslandsabend/
CATEGORIES:BPhD Veranstaltung
END:VEVENT
END:VCALENDAR