BEGIN:VCALENDAR
VERSION:2.0
PRODID:-//BPhD e. V. - ECPv6.15.20//NONSGML v1.0//EN
CALSCALE:GREGORIAN
METHOD:PUBLISH
X-WR-CALNAME:BPhD e. V.
X-ORIGINAL-URL:https://www.bphd.de
X-WR-CALDESC:Veranstaltungen für BPhD e. V.
REFRESH-INTERVAL;VALUE=DURATION:PT1H
X-Robots-Tag:noindex
X-PUBLISHED-TTL:PT1H
BEGIN:VTIMEZONE
TZID:Europe/Berlin
BEGIN:DAYLIGHT
TZOFFSETFROM:+0100
TZOFFSETTO:+0200
TZNAME:CEST
DTSTART:20210328T010000
END:DAYLIGHT
BEGIN:STANDARD
TZOFFSETFROM:+0200
TZOFFSETTO:+0100
TZNAME:CET
DTSTART:20211031T010000
END:STANDARD
BEGIN:DAYLIGHT
TZOFFSETFROM:+0100
TZOFFSETTO:+0200
TZNAME:CEST
DTSTART:20220327T010000
END:DAYLIGHT
BEGIN:STANDARD
TZOFFSETFROM:+0200
TZOFFSETTO:+0100
TZNAME:CET
DTSTART:20221030T010000
END:STANDARD
BEGIN:DAYLIGHT
TZOFFSETFROM:+0100
TZOFFSETTO:+0200
TZNAME:CEST
DTSTART:20230326T010000
END:DAYLIGHT
BEGIN:STANDARD
TZOFFSETFROM:+0200
TZOFFSETTO:+0100
TZNAME:CET
DTSTART:20231029T010000
END:STANDARD
END:VTIMEZONE
BEGIN:VEVENT
DTSTART;TZID=Europe/Berlin:20220113T200000
DTEND;TZID=Europe/Berlin:20220113T220000
DTSTAMP:20260423T053818
CREATED:20220106T204036Z
LAST-MODIFIED:20220106T204036Z
UID:55173110-1642104000-1642111200@www.bphd.de
SUMMARY:Treffen der AG Gesundheitspolitik
DESCRIPTION:Treffen der AG Gesundheitspolitik am Donnerstag\, 13.01.2022 \nThema: Gesundheitspolitik 2022 \nWas ändert sich 2022 in der Gesundheitspolitik und für die Apotheken? Wie geht die Digitalisierung des Gesundheitswesens weiter? Wann wird es die pharmazeutischen Dienstleistungen geben? \nDarüber wollen wir am Donnerstag\, 13.01.2022 um 20:00 Uhr bei der AG Gesundheitspolitik reden. Kommt gerne vorbei und informiert euch über die gesundheitspolitischen Veränderungen im Jahr 2022. \nZugangsdaten: \nhttps://us06web.zoom.us/j/83010849675?pwd=ZEpScFhvdnFhQ0xUYWptQjJHdWJIdz09 \nMeeting-ID: 830 1084 9675 \nKenncode: AGGP
URL:https://www.bphd.de/event/treffen-der-ag-gesundheitspolitik-3/
CATEGORIES:AG-Treffen
END:VEVENT
END:VCALENDAR