BEGIN:VCALENDAR
VERSION:2.0
PRODID:-//BPhD e. V. - ECPv6.15.20//NONSGML v1.0//EN
CALSCALE:GREGORIAN
METHOD:PUBLISH
X-WR-CALNAME:BPhD e. V.
X-ORIGINAL-URL:https://www.bphd.de
X-WR-CALDESC:Veranstaltungen für BPhD e. V.
REFRESH-INTERVAL;VALUE=DURATION:PT1H
X-Robots-Tag:noindex
X-PUBLISHED-TTL:PT1H
BEGIN:VTIMEZONE
TZID:Europe/Berlin
BEGIN:DAYLIGHT
TZOFFSETFROM:+0100
TZOFFSETTO:+0200
TZNAME:CEST
DTSTART:20200329T010000
END:DAYLIGHT
BEGIN:STANDARD
TZOFFSETFROM:+0200
TZOFFSETTO:+0100
TZNAME:CET
DTSTART:20201025T010000
END:STANDARD
BEGIN:DAYLIGHT
TZOFFSETFROM:+0100
TZOFFSETTO:+0200
TZNAME:CEST
DTSTART:20210328T010000
END:DAYLIGHT
BEGIN:STANDARD
TZOFFSETFROM:+0200
TZOFFSETTO:+0100
TZNAME:CET
DTSTART:20211031T010000
END:STANDARD
BEGIN:DAYLIGHT
TZOFFSETFROM:+0100
TZOFFSETTO:+0200
TZNAME:CEST
DTSTART:20220327T010000
END:DAYLIGHT
BEGIN:STANDARD
TZOFFSETFROM:+0200
TZOFFSETTO:+0100
TZNAME:CET
DTSTART:20221030T010000
END:STANDARD
END:VTIMEZONE
BEGIN:VEVENT
DTSTART;TZID=Europe/Berlin:20211012T200000
DTEND;TZID=Europe/Berlin:20211012T210000
DTSTAMP:20260423T100742
CREATED:20210521T180919Z
LAST-MODIFIED:20211003T230221Z
UID:55167561-1634068800-1634072400@www.bphd.de
SUMMARY:Studium+ „Ein Tag in der Krankenhauspharmazie“
DESCRIPTION:Die Arbeit im Krankenhaus bietet uns ein breites Spektrum an Aufgaben. Wir können uns um die Logistik kümmern und sorgen dafür\, dass jedes Medikament pünktlich auf Station ist. Daneben schützen wir die Patientensicherheit der Allerkleinsten und Immungeschwächten\, indem wir für Sie genau angepasste Arzneimittel herstellen. Natürlich kümmern wir uns auch darum\, dass Ausgangsstoffe und selbst hergestellte Arzneimittel geprüft werden und die Qualitätsstandards erfüllen. Ebenso arbeiten wir eng mit Ärzt*innen und Pfleger*innen zusammen und beraten diese bei pharmazeutischen Fragestellungen. Das Gebiet der Krankenhauspharmazie ist sehr abwechslungsreich und bietet für jeden etwas. Willst du mehr darüber erfahren und deine Fragen unserem Experten stellen? Dann komm vorbei bei Studium+!  \n  \nZoom-Meeting beitreten\nhttps://us06web.zoom.us/j/87487452670?pwd=U2NkMmM1a0hYK0RCZGd3TDV5RUs2UT09 \nMeeting-ID: 874 8745 2670\nKenncode: 968257
URL:https://www.bphd.de/event/studium-ein-tag-in-der-krankenhauspharmazie/
CATEGORIES:Studium +
END:VEVENT
BEGIN:VEVENT
DTSTART;TZID=Europe/Berlin:20211014T200000
DTEND;TZID=Europe/Berlin:20211014T220000
DTSTAMP:20260423T100742
CREATED:20211004T163801Z
LAST-MODIFIED:20211004T163801Z
UID:55170154-1634241600-1634248800@www.bphd.de
SUMMARY:Treffen der AG Gesundheitspolitik
DESCRIPTION:Thema: Gesundheitspolitik von Jamaika- und Ampel-Koalition   \nLiebe Studierende\,  \nwir alle kennen die Ergebnisse der Bundestagswahl und blicken nun mit Spannung auf die Verhandlungen und Gespräche rund um die Regierungsbildung. Wir es nun eine Ampel – oder wird es Jamaika? Das bleibt abzuwarten..  \nAber was würden eigentlich die verschiedenen Koalitionen für die Gesundheitspolitik und für die Zukunft des Apothekerberufs bedeuten? Haben die Parteien gemeinsame Ziele und kann man Prognosen treffen\, was die verschiedenen Koalitionen umsetzen würden?  Darüber wollen wir am Donnerstag\, 14.10. um 20:00 Uhr in der AG Gesundheitspolitik reden. Kommt gerne vorbei und lasst uns gemeinsam einen kleinen Blick in die Zukunft werfen!  \nLiebe Grüße  \nRoman (Beauftragter für Gesundheitspolitik) 
URL:https://www.bphd.de/event/treffen-der-ag-gesundheitspolitik-2/
CATEGORIES:AG-Treffen
END:VEVENT
BEGIN:VEVENT
DTSTART;VALUE=DATE:20211022
DTEND;VALUE=DATE:20211025
DTSTAMP:20260423T100742
CREATED:20210916T193205Z
LAST-MODIFIED:20210916T193205Z
UID:55169811-1634860800-1635119999@www.bphd.de
SUMMARY:WorkshopWeekend in Bad Hersfeld
DESCRIPTION:Du hast Lust auf ein gemeinsames Wochenende mit anderen Pharmas? In Präsenz\, all inclusive\, gemütlichen Abenden und ihr könnt euch dabei sogar noch weiterbilden? Auf unserer ersten Präsenzveranstaltung seit fast 2 Jahren\, fahren wir das komplette Geschütz auf. Euch erwarten spannende Workshops und Trainings rund um das Thema “Berufsorientierung”. Dazu treffen wir uns vom 22.-24.10.2021 in Bad Hersfeld in einer Jugendherberge. Der Teilnahmebeitrag beträgt 15 €.\n\nWolltet ihr immer schonmal wissen\, wie man eigentlich ein Medikament herstellt\, wie die Pharmazie mit der Medizin und der Pflege zusammenhängt oder was es eigentlich bedeutet\, Apotheker*in in einem Krankenhaus zu sein? Wir auch! Und es gibt noch mehr: Am Sonntag habt ihr die Chance eure Soft-Skills aufzubessern und gemeinsam mit unseren Trainer*innen die Themen Zeitmanagement\, Entscheidungsfindung oder Konfliktbewältigung zu erarbeiten. Nach diesem Wochenende seid ihr perfekt ausgestattet für euer (weiteres) Studium und für´s Berufsleben.\n\nWir freuen uns auf euch!\nJannik (Veranstaltungsorganisation) und Nele (Fort- und Weiterbildung)
URL:https://www.bphd.de/event/workshopweekend-in-bad-hersfeld/
CATEGORIES:BPhD Veranstaltung
END:VEVENT
END:VCALENDAR