BEGIN:VCALENDAR
VERSION:2.0
PRODID:-//BPhD e. V. - ECPv6.15.20//NONSGML v1.0//EN
CALSCALE:GREGORIAN
METHOD:PUBLISH
X-ORIGINAL-URL:https://www.bphd.de
X-WR-CALDESC:Veranstaltungen für BPhD e. V.
REFRESH-INTERVAL;VALUE=DURATION:PT1H
X-Robots-Tag:noindex
X-PUBLISHED-TTL:PT1H
BEGIN:VTIMEZONE
TZID:Europe/Berlin
BEGIN:DAYLIGHT
TZOFFSETFROM:+0100
TZOFFSETTO:+0200
TZNAME:CEST
DTSTART:20200329T010000
END:DAYLIGHT
BEGIN:STANDARD
TZOFFSETFROM:+0200
TZOFFSETTO:+0100
TZNAME:CET
DTSTART:20201025T010000
END:STANDARD
BEGIN:DAYLIGHT
TZOFFSETFROM:+0100
TZOFFSETTO:+0200
TZNAME:CEST
DTSTART:20210328T010000
END:DAYLIGHT
BEGIN:STANDARD
TZOFFSETFROM:+0200
TZOFFSETTO:+0100
TZNAME:CET
DTSTART:20211031T010000
END:STANDARD
BEGIN:DAYLIGHT
TZOFFSETFROM:+0100
TZOFFSETTO:+0200
TZNAME:CEST
DTSTART:20220327T010000
END:DAYLIGHT
BEGIN:STANDARD
TZOFFSETFROM:+0200
TZOFFSETTO:+0100
TZNAME:CET
DTSTART:20221030T010000
END:STANDARD
END:VTIMEZONE
BEGIN:VEVENT
DTSTART;TZID=Europe/Berlin:20210812T200000
DTEND;TZID=Europe/Berlin:20210812T220000
DTSTAMP:20260423T124618
CREATED:20210705T191030Z
LAST-MODIFIED:20210807T204122Z
UID:55168837-1628798400-1628805600@www.bphd.de
SUMMARY:AG Gesundheitspolitik: Generationengerechtigkeit im Gesundheitswesen
DESCRIPTION:Findet ihr es gerecht\, dass gesundheitspolitische Entscheidungen\, die unsere Zukunft bestimmen von Politiker*innen im durchschnittlichen Alter von 50 Jahren getroffen werden? Die Weichen\, die jetzt gestellt werden\, entscheiden über unsere Zukunft und unsere Generation hat keinen Einfluss darauf.  Luise Roither und Felice Tavera von der “Denkschmiede Gesundheit” setzen sich für die Generationengerechtigkeit in der Gesundheitspolitik ein und stellen uns bei dem AG-Treffen vor\, wieso es so wichtig ist\, dass wir uns aktiv in die Gesundheitspolitik einbringen und wie uns das gelingen kann. \nKommt gerne bei dem AG-Treffen vorbei und erfahrt\, was Generationengerechtigkeit im Gesundheitswesen ist und wie sie erreicht werden kann. Am 12.08.2021 treffen wir uns dafür um 20:00 Uhr auf Zoom. \nhttps://us06web.zoom.us/j/83577419858?pwd=aXdhaXFnbmpYS2VSclFUekxUM3N2Zz09 \nMeeting-ID: 835 7741 9858\nKenncode: AGGP \nLiebe Grüße\nRoman (Beauftragter für Gesundheitspolitik) \n 
URL:https://www.bphd.de/event/ag-gesundheitspolitik-am-donnerstag/
CATEGORIES:AG-Treffen
END:VEVENT
END:VCALENDAR