BEGIN:VCALENDAR
VERSION:2.0
PRODID:-//BPhD e. V. - ECPv6.15.20//NONSGML v1.0//EN
CALSCALE:GREGORIAN
METHOD:PUBLISH
X-ORIGINAL-URL:https://www.bphd.de
X-WR-CALDESC:Veranstaltungen für BPhD e. V.
REFRESH-INTERVAL;VALUE=DURATION:PT1H
X-Robots-Tag:noindex
X-PUBLISHED-TTL:PT1H
BEGIN:VTIMEZONE
TZID:Europe/Berlin
BEGIN:DAYLIGHT
TZOFFSETFROM:+0100
TZOFFSETTO:+0200
TZNAME:CEST
DTSTART:20200329T010000
END:DAYLIGHT
BEGIN:STANDARD
TZOFFSETFROM:+0200
TZOFFSETTO:+0100
TZNAME:CET
DTSTART:20201025T010000
END:STANDARD
BEGIN:DAYLIGHT
TZOFFSETFROM:+0100
TZOFFSETTO:+0200
TZNAME:CEST
DTSTART:20210328T010000
END:DAYLIGHT
BEGIN:STANDARD
TZOFFSETFROM:+0200
TZOFFSETTO:+0100
TZNAME:CET
DTSTART:20211031T010000
END:STANDARD
BEGIN:DAYLIGHT
TZOFFSETFROM:+0100
TZOFFSETTO:+0200
TZNAME:CEST
DTSTART:20220327T010000
END:DAYLIGHT
BEGIN:STANDARD
TZOFFSETFROM:+0200
TZOFFSETTO:+0100
TZNAME:CET
DTSTART:20221030T010000
END:STANDARD
END:VTIMEZONE
BEGIN:VEVENT
DTSTART;TZID=Europe/Berlin:20210503T200000
DTEND;TZID=Europe/Berlin:20210503T220000
DTSTAMP:20260423T170635
CREATED:20210426T163146Z
LAST-MODIFIED:20210426T163146Z
UID:55166248-1620072000-1620079200@www.bphd.de
SUMMARY:AG Meeting Umwelt und Klima
DESCRIPTION:Beim letzten Treffen wurden die ersten Ideen für das Positionspapier vorgestellt. Beim nächsten Treffen (03. Mai 20:00 Uhr)\, werden wir kurz daran weiterarbeiten\, möchten uns aber auch einem weiteren Punkt zuwenden – nämlich der Lehre. Wo kann Lehre nachhaltiger gestaltet werden & wo erwünscht ihr euch mehr Informationen im Studium zum Klima. Anschließend würden wir noch ein Socializing Programm startet\, damit wir uns alle besser kennen lernen.\n\n\n \nSchaut gerne vorbei und teilt eure Ideen. Wir freuen uns auf euch!\nStefan & Patrick\n \nSie sind eingeladen\, an einer Microsoft Teams-Besprechung teilzunehmen \nBetreff: AG Klima & Umwelt\nZeit: 03.05.2021 20:00:00 \nAuf Ihrem Computer oder Ihrer mobilen App teilnehmen\nKlicken Sie hier\, um an der Besprechung teilzunehmen
URL:https://www.bphd.de/event/ag-meeting-umwelt-und-klima/
CATEGORIES:AG Umwelt und Klima
END:VEVENT
BEGIN:VEVENT
DTSTART;TZID=Europe/Berlin:20210505T180000
DTEND;TZID=Europe/Berlin:20210505T200000
DTSTAMP:20260423T170635
CREATED:20210225T212555Z
LAST-MODIFIED:20210502T183718Z
UID:55162835-1620237600-1620244800@www.bphd.de
SUMMARY:Auswirkungen der Klimakrise auf die mentale Gesundheit
DESCRIPTION:Am Mittwoch\, den 05.05. 2021 um 18:00 Uhr geht die Klima-Vortragsreihe in die nächste Runde. Thema wird an dem Abend die mentale Gesundheit im Zusammenhang mit der Klimakrise sein. Bei Klimaaktivist*innen kann sich eine Hilflosigkeit oder Verzweiflung entwickeln\, da sie z. B. nicht über ausreichend Mittel für eine Änderung verfügen oder auch weil sie selten von der Politik wirklich gehört werden. Aber auch bei jedem Menschen kann sich z. B. eine Angst entwickeln bei der Vorstellung\, dass der Mensch seine eigene Lebensgrundlage zerstört oder man kann auch Trauer empfinden\, wenn ein benachbarter Wald abgeholzt wird und ein Stück Heimat verloren geht.\n\nUm die Zusammenhänge besser zu verstehen haben wir Katharina van Bronswijk zu Gast\, die uns anhand von Studien die Zusammenhänge der Klimakrise und der mentalen Gesundheit näher bringen wird.\n\nHier die Zugangsdaten: https://us06web.zoom.us/j/82013651786?pwd=dE5mR1RyR3JTMEs1SDZJZWpJWXZBZz09\nMeeting-ID: 820 1365 1786\nKenncode: 388699
URL:https://www.bphd.de/event/klima-und-auswirkungen-auf-die-psychische-gesundheit-mental-health/
CATEGORIES:AG Umwelt und Klima
END:VEVENT
BEGIN:VEVENT
DTSTART;TZID=Europe/Berlin:20210505T200000
DTEND;TZID=Europe/Berlin:20210505T220000
DTSTAMP:20260423T170635
CREATED:20210411T202240Z
LAST-MODIFIED:20210411T202240Z
UID:55165869-1620244800-1620252000@www.bphd.de
SUMMARY:Auslandsabend
DESCRIPTION:Liebe Auslands-Begeisterte\, \n\nam 05. Mai 2021 um 20:00 Uhr richtet das Auslandsressort den Zweiten bundesweiten Auslandsabend aus. Wir haben Vorträge und Erfahrungsberichte zu verschiedenen Auslandsangeboten wie SEP\, Twinnet\, ERASMUS\, PJ/Famulatur im Ausland geplant und informieren euch auch über EPSA\, IPSF und die Finanzierung eines solchen Aufenthalts. Im Anschluss beantworten wir auch gerne eure Fragen rund um Auslandsaufenthalte.\n\nMarkiert euch den Termin im Kalender – wir freuen uns auf Euch! Den Meetinglink bekommt Ihr in den nächsten Wochen über Social Media und die Wöchentliche Infusion noch mitgeteilt 🙂\n\nLiebe Grüße\nEuer Auslandsressort mit Caro\, Jan\, Kaloyan & Max
URL:https://www.bphd.de/event/auslandsabend/
CATEGORIES:BPhD Veranstaltung
END:VEVENT
BEGIN:VEVENT
DTSTART;VALUE=DATE:20210513
DTEND;VALUE=DATE:20210517
DTSTAMP:20260423T170635
CREATED:20210109T013932Z
LAST-MODIFIED:20210416T175522Z
UID:55162001-1620864000-1621209599@www.bphd.de
SUMMARY:130. online Bundesverbandstagung
DESCRIPTION:
URL:https://www.bphd.de/event/130-bundesverbandstagung/
CATEGORIES:BPhD Veranstaltung
END:VEVENT
BEGIN:VEVENT
DTSTART;TZID=Europe/Berlin:20210520T200000
DTEND;TZID=Europe/Berlin:20210520T220000
DTSTAMP:20260423T170635
CREATED:20210518T215831Z
LAST-MODIFIED:20210518T215831Z
UID:55167539-1621540800-1621548000@www.bphd.de
SUMMARY:Studium +
DESCRIPTION:Wie kann ich mich fürs Studium motivieren? Was lerne ich im Studium fürs Leben? Diese Fragen und vieles andere klären wir bei Studium+ am 20. Mai um 20:00 über Zoom. Wir haben Tamim Al-Marie zu Gast. Tamim hat nicht nur ein Buch über das Lernen im Pharmaziestudium geschrieben\, sondern auch ein Start-Up gegründet. Die Immunkarte könnte dazu beitragen\, dass wir bald mal wieder feiern dürfen 😉 Na neugierig? Dann kommt vorbei und habt die Chance eins von Tamims Büchern zu gewinnen:\nZoom-Meeting beitreten\nhttps://fau.zoom.us/j/7239987592?pwd=K0V3TUsvL2VBSnFpdXlvOVNVdXlpdz09 \nMeeting-ID: 723 998 7592\nKenncode: Studium+
URL:https://www.bphd.de/event/studium/
CATEGORIES:Studium +
END:VEVENT
END:VCALENDAR