BEGIN:VCALENDAR
VERSION:2.0
PRODID:-//BPhD e. V. - ECPv6.15.20//NONSGML v1.0//EN
CALSCALE:GREGORIAN
METHOD:PUBLISH
X-WR-CALNAME:BPhD e. V.
X-ORIGINAL-URL:https://www.bphd.de
X-WR-CALDESC:Veranstaltungen für BPhD e. V.
REFRESH-INTERVAL;VALUE=DURATION:PT1H
X-Robots-Tag:noindex
X-PUBLISHED-TTL:PT1H
BEGIN:VTIMEZONE
TZID:Europe/Berlin
BEGIN:DAYLIGHT
TZOFFSETFROM:+0100
TZOFFSETTO:+0200
TZNAME:CEST
DTSTART:20200329T010000
END:DAYLIGHT
BEGIN:STANDARD
TZOFFSETFROM:+0200
TZOFFSETTO:+0100
TZNAME:CET
DTSTART:20201025T010000
END:STANDARD
BEGIN:DAYLIGHT
TZOFFSETFROM:+0100
TZOFFSETTO:+0200
TZNAME:CEST
DTSTART:20210328T010000
END:DAYLIGHT
BEGIN:STANDARD
TZOFFSETFROM:+0200
TZOFFSETTO:+0100
TZNAME:CET
DTSTART:20211031T010000
END:STANDARD
BEGIN:DAYLIGHT
TZOFFSETFROM:+0100
TZOFFSETTO:+0200
TZNAME:CEST
DTSTART:20220327T010000
END:DAYLIGHT
BEGIN:STANDARD
TZOFFSETFROM:+0200
TZOFFSETTO:+0100
TZNAME:CET
DTSTART:20221030T010000
END:STANDARD
END:VTIMEZONE
BEGIN:VEVENT
DTSTART;TZID=Europe/Berlin:20210114T200000
DTEND;TZID=Europe/Berlin:20210114T220000
DTSTAMP:20260423T221446
CREATED:20210114T001746Z
LAST-MODIFIED:20210114T001746Z
UID:55162087-1610654400-1610661600@www.bphd.de
SUMMARY:AG Gesundheitspolitik
DESCRIPTION:COVAX – Coronaimpfungen auch für Entwicklungsländer! \n\nLiebe Studierende\, \nam Donnerstag trifft sich die AG Gesundheitspolitik wieder. Das Thema ist die COVAX-Initiative. \nDie von der WHO gegründete COVAX-Initiative verfolgt das Ziel\, die Coronaimpfstoffe gleichmäßig in der Welt zu verteilen\, sodass auch Entwicklungsländer einen Zugang zu Impfungen erhalten können. \nWie das umgesetzt werden soll und wo die Vor- und Nachteile der Initiative liegen\, wollen wir am Donnerstag in der AG Gesundheitspolitik besprechen. \nIch freue mich auf einen spannenden Austausch mit euch. Das Meeting ist auch gut für Neueinsteiger geeignet. Bei Fragen könnt ihr euch gerne an mich wenden. \n\nLiebe Grüße \nRoman \n\nZugangslink: \nhttps://teams.microsoft.com/l/meetup-join/19%3ameeting_NTg3YmU1YmItZTNhNy00OGFlLWIzZDAtNzRjOTliYTBhNjA2%40thread.v2/0?context=%7b%22Tid%22%3a%2255d71da9-44dd-484e-b4e2-ec0e9ef46b85%22%2c%22Oid%22%3a%2217888400-ddc7-4fa6-b60c-1e5c9128f0c0%22%7d
URL:https://www.bphd.de/event/ag-gesundheitspolitik-5/
CATEGORIES:AG-Treffen
END:VEVENT
END:VCALENDAR