BEGIN:VCALENDAR
VERSION:2.0
PRODID:-//BPhD e. V. - ECPv6.15.20//NONSGML v1.0//EN
CALSCALE:GREGORIAN
METHOD:PUBLISH
X-WR-CALNAME:BPhD e. V.
X-ORIGINAL-URL:https://www.bphd.de
X-WR-CALDESC:Veranstaltungen für BPhD e. V.
REFRESH-INTERVAL;VALUE=DURATION:PT1H
X-Robots-Tag:noindex
X-PUBLISHED-TTL:PT1H
BEGIN:VTIMEZONE
TZID:Europe/Berlin
BEGIN:DAYLIGHT
TZOFFSETFROM:+0100
TZOFFSETTO:+0200
TZNAME:CEST
DTSTART:20190331T010000
END:DAYLIGHT
BEGIN:STANDARD
TZOFFSETFROM:+0200
TZOFFSETTO:+0100
TZNAME:CET
DTSTART:20191027T010000
END:STANDARD
BEGIN:DAYLIGHT
TZOFFSETFROM:+0100
TZOFFSETTO:+0200
TZNAME:CEST
DTSTART:20200329T010000
END:DAYLIGHT
BEGIN:STANDARD
TZOFFSETFROM:+0200
TZOFFSETTO:+0100
TZNAME:CET
DTSTART:20201025T010000
END:STANDARD
BEGIN:DAYLIGHT
TZOFFSETFROM:+0100
TZOFFSETTO:+0200
TZNAME:CEST
DTSTART:20210328T010000
END:DAYLIGHT
BEGIN:STANDARD
TZOFFSETFROM:+0200
TZOFFSETTO:+0100
TZNAME:CET
DTSTART:20211031T010000
END:STANDARD
END:VTIMEZONE
BEGIN:VEVENT
DTSTART;VALUE=DATE:20201201
DTEND;VALUE=DATE:20201202
DTSTAMP:20260423T234606
CREATED:20200813T195243Z
LAST-MODIFIED:20200813T195243Z
UID:55159791-1606780800-1606867199@www.bphd.de
SUMMARY:Welt-AIDS-Tag
DESCRIPTION:
URL:https://www.bphd.de/event/welt-aids-tag/
CATEGORIES:Gesundheitstage
END:VEVENT
BEGIN:VEVENT
DTSTART;TZID=Europe/Berlin:20201201T200000
DTEND;TZID=Europe/Berlin:20201201T220000
DTSTAMP:20260423T234606
CREATED:20201202T011533Z
LAST-MODIFIED:20201202T011533Z
UID:55161546-1606852800-1606860000@www.bphd.de
SUMMARY:Treffen AG Jungpharm
DESCRIPTION:Geld fürs PJ – wie viel ist genug? \nDie PJ-Evaluation hat sehr ein sehr gemischtes Bild unter den PhiPs gezeigt\, wenn es um die Frage\, wie viel Geld eigentlich genug zum Leben ist. Gemeinsam schauen wir uns die Ergebnisse hinsichtlich der verschiedenen Bereiche einmal genauer an und klären hoffentlich die Frage aller Fragen\, wenn es um das PJ geht.\nKenncode: PhiP
URL:https://www.bphd.de/event/treffen-ag-jungpharm/
CATEGORIES:AG-Treffen
END:VEVENT
BEGIN:VEVENT
DTSTART;TZID=Europe/Berlin:20201209T200000
DTEND;TZID=Europe/Berlin:20201209T220000
DTSTAMP:20260423T234606
CREATED:20201202T011907Z
LAST-MODIFIED:20201202T011907Z
UID:55161548-1607544000-1607551200@www.bphd.de
SUMMARY:AG Treffen Public Health
DESCRIPTION:Weihnachtsmeeting \nDas Jahr 2020 neigt sich dem Ende zu und normalerweise beginnt für uns alle eine entspannte Weihnachtszeit. Gemeinsam wollen wir bei Glühwein oder Tee und Plätzchen auf das etwas andere Jahr 2020 zurückblicken\, aus dem Jahr lernen und auf das Jahr 2021 blicken. Um euch und mir eine bessere Planung und Vorbereitung zu gewährleisten\, werden wir einen vorläufigen Zeitplan für 2021 erstellen. Abschließend bleibt dann noch genug Zeit für die ein oder andere\nSpielrunde.
URL:https://www.bphd.de/event/ag-treffen-public-health-3/
CATEGORIES:AG-Treffen
END:VEVENT
BEGIN:VEVENT
DTSTART;TZID=Europe/Berlin:20201210T200000
DTEND;TZID=Europe/Berlin:20201210T220000
DTSTAMP:20260423T234606
CREATED:20201202T012129Z
LAST-MODIFIED:20201202T012258Z
UID:55161550-1607630400-1607637600@www.bphd.de
SUMMARY:Treffen AG Gesundheitspolitik:
DESCRIPTION:Verantwortung der Apotheker*innen für die Patient*innensicherheit \nSeit Jahren steht das Thema der Patient*innensicherheit auf der Tagesordnung aller wichtigen\nKongresse\, aber was bedeutet Patient*innensicherheit überhaupt? Wie stark divergieren die Interessen verschiedenster beteiligter Akteure und was bedeutet das eigentlich für die Patient*innen?\nWie können wir arzneimittelbezogene Probleme sowie deren Fehlerquellen ausmachen und über welche Kompetenzen muss ein*e Apotheker*in der Zukunft verfügen?\nÜber diese Fragen sprechen wir mit Dr. Ronja Woltersdorf. Sie ist wissenschaftliche Mitarbeiterin im Arbeitskreis der Klinischen Pharmazie von Herrn Prof. Jaehde sowie Mitglied der Ethikkommission der Universität Bonn. Darüber hinaus engagiert sie sich als Mitglied des Aktionsbündnis Patientensicherheit e. V. .
URL:https://www.bphd.de/event/treffen-ag-gesundheitspolitik/
CATEGORIES:AG-Treffen
END:VEVENT
BEGIN:VEVENT
DTSTART;TZID=Europe/Berlin:20201217T200000
DTEND;TZID=Europe/Berlin:20201217T220000
DTSTAMP:20260423T234606
CREATED:20201202T012457Z
LAST-MODIFIED:20201202T012457Z
UID:55161554-1608235200-1608242400@www.bphd.de
SUMMARY:AG Zukunft
DESCRIPTION:Anforderungen an die Lehre \nDurch die Pandemie wurde die Lehre auf den Kopf gestellt und dadurch wurden Schwächen und Vorteile sichtbar. Wir schauen uns die einzelnen Konzepte und deren Umsetzung\, sowie Voraussetzung an. Lasst uns bei einer schönen winterlichen Runde diskutieren\, wie eine gute Lehre aussehen sollte.
URL:https://www.bphd.de/event/ag-zukunft-4/
CATEGORIES:AG-Treffen
END:VEVENT
END:VCALENDAR