BEGIN:VCALENDAR
VERSION:2.0
PRODID:-//BPhD e. V. - ECPv6.15.20//NONSGML v1.0//EN
CALSCALE:GREGORIAN
METHOD:PUBLISH
X-ORIGINAL-URL:https://www.bphd.de
X-WR-CALDESC:Veranstaltungen für BPhD e. V.
REFRESH-INTERVAL;VALUE=DURATION:PT1H
X-Robots-Tag:noindex
X-PUBLISHED-TTL:PT1H
BEGIN:VTIMEZONE
TZID:Europe/Berlin
BEGIN:DAYLIGHT
TZOFFSETFROM:+0100
TZOFFSETTO:+0200
TZNAME:CEST
DTSTART:20190331T010000
END:DAYLIGHT
BEGIN:STANDARD
TZOFFSETFROM:+0200
TZOFFSETTO:+0100
TZNAME:CET
DTSTART:20191027T010000
END:STANDARD
BEGIN:DAYLIGHT
TZOFFSETFROM:+0100
TZOFFSETTO:+0200
TZNAME:CEST
DTSTART:20200329T010000
END:DAYLIGHT
BEGIN:STANDARD
TZOFFSETFROM:+0200
TZOFFSETTO:+0100
TZNAME:CET
DTSTART:20201025T010000
END:STANDARD
BEGIN:DAYLIGHT
TZOFFSETFROM:+0100
TZOFFSETTO:+0200
TZNAME:CEST
DTSTART:20210328T010000
END:DAYLIGHT
BEGIN:STANDARD
TZOFFSETFROM:+0200
TZOFFSETTO:+0100
TZNAME:CET
DTSTART:20211031T010000
END:STANDARD
END:VTIMEZONE
BEGIN:VEVENT
DTSTART;VALUE=DATE:20201101
DTEND;VALUE=DATE:20201201
DTSTAMP:20260424T011105
CREATED:20200813T194319Z
LAST-MODIFIED:20200813T194319Z
UID:55159781-1604188800-1606780799@www.bphd.de
SUMMARY:Herzwochen
DESCRIPTION:
URL:https://www.bphd.de/event/herzwochen/
CATEGORIES:Gesundheitstage
END:VEVENT
BEGIN:VEVENT
DTSTART;VALUE=DATE:20201107
DTEND;VALUE=DATE:20201108
DTSTAMP:20260424T011105
CREATED:20200813T194441Z
LAST-MODIFIED:20200813T194441Z
UID:55159783-1604707200-1604793599@www.bphd.de
SUMMARY:Magen-Darm-Tag
DESCRIPTION:
URL:https://www.bphd.de/event/magen-darm-tag/
CATEGORIES:Gesundheitstage
END:VEVENT
BEGIN:VEVENT
DTSTART;TZID=Europe/Berlin:20201111T200000
DTEND;TZID=Europe/Berlin:20201111T220000
DTSTAMP:20260424T011105
CREATED:20201104T215917Z
LAST-MODIFIED:20201104T215917Z
UID:55161086-1605124800-1605132000@www.bphd.de
SUMMARY:AG-Treffen Public Health
DESCRIPTION:?AG Public Health: 11.11.20\, 20.00 Uhr:\nWelt AIDS Tag\nAm 1.12 ist wieder Welt AIDS Tag. Weltweit leben etwa 37\,9 Millionen Menschen mit HIV. Noch lange haben nicht alle Zugang zu den lebensnotwendigen Medikamenten. Und noch immer erleben Betroffene Ausgrenzung und Stigmatisierung. Gemeinsam wollen wir eine Kampagne erarbeiten und über die Thematik aufklären.
URL:https://www.bphd.de/event/ag-treffen-public-health-2/
CATEGORIES:AG-Treffen
END:VEVENT
BEGIN:VEVENT
DTSTART;TZID=Europe/Berlin:20201112T200000
DTEND;TZID=Europe/Berlin:20201112T220000
DTSTAMP:20260424T011105
CREATED:20201104T220211Z
LAST-MODIFIED:20201104T220211Z
UID:55161088-1605211200-1605218400@www.bphd.de
SUMMARY:AG-Treffen Gesundheitspolitik
DESCRIPTION:?AG Gesundheitspolitik: 12.11.2020\, 20.00 Uhr:\nEthik und Pharmazie – Ein Austausch mit Prof. Dr. Franz-Josef Bormann\nWas ist eigentlich ein Moraltheologe? Wie arbeitet der Deutsche Ethikrat (DER)? Und was hat das mit Pharmazie zu tun?\nProf. Dr. Franz-Josef Bormann ist Moraltheologe an der Eberhard Karls Universität Tübingen\, er ist Mitglied im Deutschen Ethikrat\, Mitglied der Zentralen Ethikkommission der Bundesärztekammer und berät die Deutsche Bischofskonferenz. Seine Arbeitsschwerpunkte sind u.a. Grundsatzfragen der Gerechtigkeitstheorie und aktuelle Konfliktfelder der Medizin- und Bioethik. Prof. Bormann wird uns von seiner Arbeit im Deutschen Ethikrat berichten und steht für eure Fragen zur Verfügung!
URL:https://www.bphd.de/event/ag-treffen-gesundheitspolitik/
CATEGORIES:AG-Treffen
END:VEVENT
BEGIN:VEVENT
DTSTART;TZID=Europe/Berlin:20201113T180000
DTEND;TZID=Europe/Berlin:20201115T160000
DTSTAMP:20260424T011105
CREATED:20201110T200441Z
LAST-MODIFIED:20201110T200441Z
UID:55161156-1605290400-1605456000@www.bphd.de
SUMMARY:129. online BVT
DESCRIPTION:
URL:https://www.bphd.de/event/129-online-bvt/
CATEGORIES:BPhD Veranstaltung
END:VEVENT
BEGIN:VEVENT
DTSTART;VALUE=DATE:20201114
DTEND;VALUE=DATE:20201115
DTSTAMP:20260424T011105
CREATED:20200813T194743Z
LAST-MODIFIED:20200813T194743Z
UID:55159785-1605312000-1605398399@www.bphd.de
SUMMARY:Weltdiabetestag
DESCRIPTION:
URL:https://www.bphd.de/event/weltdiabetestag/
CATEGORIES:Gesundheitstage
END:VEVENT
BEGIN:VEVENT
DTSTART;VALUE=DATE:20201118
DTEND;VALUE=DATE:20201119
DTSTAMP:20260424T011105
CREATED:20200813T194906Z
LAST-MODIFIED:20200813T194906Z
UID:55159787-1605657600-1605743999@www.bphd.de
SUMMARY:Europäischer Antibiotikatag
DESCRIPTION:
URL:https://www.bphd.de/event/europaeischer-antibiotikatag/
CATEGORIES:Gesundheitstage
END:VEVENT
BEGIN:VEVENT
DTSTART;VALUE=DATE:20201120
DTEND;VALUE=DATE:20201121
DTSTAMP:20260424T011105
CREATED:20200813T195114Z
LAST-MODIFIED:20200813T195114Z
UID:55159789-1605830400-1605916799@www.bphd.de
SUMMARY:Deutscher Lebertag
DESCRIPTION:
URL:https://www.bphd.de/event/deutscher-lebertag/
CATEGORIES:Gesundheitstage
END:VEVENT
BEGIN:VEVENT
DTSTART;TZID=Europe/Berlin:20201128T100000
DTEND;TZID=Europe/Berlin:20201128T173000
DTSTAMP:20260424T011105
CREATED:20201019T172901Z
LAST-MODIFIED:20201019T172901Z
UID:55160614-1606557600-1606584600@www.bphd.de
SUMMARY:Online Workshop Wochenende
DESCRIPTION:Liebe Teilnehmer*innen\, \n\nvor einigen Tagen kam die Absage des Workshop Wochenendes in seiner geplanten Präsenzform. Die letzten Tage wurde viel umgeplant und organisiert\, um eine Alternative stattfinden zu lassen.\n\nDie Planung eines Workshops benötigt viel Zeit und Arbeit\, so auch das Umplanen eines Workshops von der Präsenz in ein Onlineformat. Deshalb sehen sich die Workshopleiter leider nicht in der Lage zu dem geplanten Wochenende die Workshops abzuhalten. Denn auch wenn es nicht in der Ursprungsform stattfindet\, soll euch ja ein gutes Programm geboten werden und nicht eins\, was in der letzten Minute nochmal schnell umstrukturiert werden musste.\n\nAuch haben wir euch gefragt\, ob ihr Interesse an einem Onlineformat habt. Danke dafür erst einmal\, dass ihr alle so fleißig Feedback gegeben hat.\n\nAus diesem Feedback ist jetzt der folgende Plan für eine Workshop online Alternative geworden:\n\nEs wird jetzt am Samstag 28.11.2020 stattfinden.\nVon 10:00 bis 13:00 Uhr wird es den ersten Workshopblock geben.\nDanach dann eine Pause bis 14:00 Uhr.\nDann wird es den zweiten Workshopblock bis um 17:00 Uhr geben.\nNach einer kleinen Pause geht es dann um 17:30 Uhr mit der Präsentation der Ergebnisse der einzelnen Workshops weiter. Und ganz zum Schluss seid ihr dann noch herzlich eingeladen zu einem freien Socializen mit den anderen Teilnehmern.\n\nWir hoffen möglichst viele von euch\, trotz der ganzen Umstände\, am 28.11. begrüßen zu dürfen. Erzählt es gerne weiter\, fragt Freunde\, ob sie nicht auch dran teilnehmen wollen\, denn durch das online Format\, wird es keine Teilnehmerbegrenzung geben und wir werden eine erneute Anmeldung raus schicken\, sobald alle Workshops abschließend feststehen.\n\nDie drei Ursprünglich geplanten Workshops werden bestehen bleiben und momentan arbeiten wir noch daran\, euch Weitere zur Verfügung stellen zu können.\n\nLiebe Grüße und vielen Dank für euer Verständnis\nKim und Lisa
URL:https://www.bphd.de/event/online-workshop-wochenende/
CATEGORIES:BPhD Veranstaltung
END:VEVENT
BEGIN:VEVENT
DTSTART;TZID=Europe/Berlin:20201130T190000
DTEND;TZID=Europe/Berlin:20201130T230000
DTSTAMP:20260424T011105
CREATED:20201123T011631Z
LAST-MODIFIED:20201123T011631Z
UID:55161357-1606762800-1606777200@www.bphd.de
SUMMARY:Der große BPhD Auslandsabend
DESCRIPTION:Ihr wollt im Pharmaziestudium ins Ausland\, aber wisst nicht wie? Ihr habt an eurer Uni keinen eigenen Auslandsabend oder wollt – über das bestehende Angebot hinaus – zu dem Thema einfach noch mehr wissen?\n\nDas Auslandsressort informiert euch zu allen Themen rund ums Ausland im Studium beim großen BPhD-Auslandsabend – und auch darüber was trotz Corona nächsten Sommer (wahrscheinlich) möglich sein wird! Wir haben Vorträge (und teilweise auch Erfahrungsberichte) zu verschiedenen Auslandsangeboten wie SEP\, IMP\, Twinnet\, ERASMUS\, PJ/Famulatur im Ausland und informieren euch auch über EPSA\, IPSF und die Finanzierung eines solchen Aufenthalts. Im Anschluss beantworten wir auch gerne eure Fragen rund um Auslandsaufenthalte.\n\nWo? Auf Zoom\nWann? Am 30.11.20 um 19 Uhr\nLink? Bekommt Ihr in der nächsten WöInf zugeschickt\, auf Social Media oder bei eurer Fachschaft .\n\nWir freuen uns auf euch!\nEuer Auslandsteam Caro\, Jan\, Kaloyan und Till
URL:https://www.bphd.de/event/der-grosse-bphd-auslandsabend/
CATEGORIES:BPhD Veranstaltung
END:VEVENT
END:VCALENDAR