BEGIN:VCALENDAR
VERSION:2.0
PRODID:-//BPhD e. V. - ECPv6.15.20//NONSGML v1.0//EN
CALSCALE:GREGORIAN
METHOD:PUBLISH
X-WR-CALNAME:BPhD e. V.
X-ORIGINAL-URL:https://www.bphd.de
X-WR-CALDESC:Veranstaltungen für BPhD e. V.
REFRESH-INTERVAL;VALUE=DURATION:PT1H
X-Robots-Tag:noindex
X-PUBLISHED-TTL:PT1H
BEGIN:VTIMEZONE
TZID:Europe/Berlin
BEGIN:DAYLIGHT
TZOFFSETFROM:+0100
TZOFFSETTO:+0200
TZNAME:CEST
DTSTART:20190331T010000
END:DAYLIGHT
BEGIN:STANDARD
TZOFFSETFROM:+0200
TZOFFSETTO:+0100
TZNAME:CET
DTSTART:20191027T010000
END:STANDARD
BEGIN:DAYLIGHT
TZOFFSETFROM:+0100
TZOFFSETTO:+0200
TZNAME:CEST
DTSTART:20200329T010000
END:DAYLIGHT
BEGIN:STANDARD
TZOFFSETFROM:+0200
TZOFFSETTO:+0100
TZNAME:CET
DTSTART:20201025T010000
END:STANDARD
BEGIN:DAYLIGHT
TZOFFSETFROM:+0100
TZOFFSETTO:+0200
TZNAME:CEST
DTSTART:20210328T010000
END:DAYLIGHT
BEGIN:STANDARD
TZOFFSETFROM:+0200
TZOFFSETTO:+0100
TZNAME:CET
DTSTART:20211031T010000
END:STANDARD
END:VTIMEZONE
BEGIN:VEVENT
DTSTART;TZID=Europe/Berlin:20200811T200000
DTEND;TZID=Europe/Berlin:20200811T220000
DTSTAMP:20260424T051103
CREATED:20200801T204855Z
LAST-MODIFIED:20200801T204855Z
UID:55159590-1597176000-1597183200@www.bphd.de
SUMMARY:AG Public Health
DESCRIPTION:AG Public Health: 11.08.20\, 20.00 Uhr: \n“Wir müssen reden!”\nIm Rahmen der Mental Health Kampagne wollen wir uns nochmal mit dem Thema Depressionen auseinandersetzten. Noch immer ist es ein Tabu Thema\, über das kaum einer spricht.\nEin weiteres Thema soll Alzheimer sein. Nicht nur den Betroffenen selbst\, auch Angehörigen fällt es schwer darüber zu reden\, weil es peinlich sei.
URL:https://www.bphd.de/event/ag-public-health-5/
CATEGORIES:AG-Treffen
END:VEVENT
BEGIN:VEVENT
DTSTART;TZID=Europe/Berlin:20200813T200000
DTEND;TZID=Europe/Berlin:20200813T220000
DTSTAMP:20260424T051103
CREATED:20200801T205121Z
LAST-MODIFIED:20200801T205121Z
UID:55159592-1597348800-1597356000@www.bphd.de
SUMMARY:AG Gesundheitspolitik
DESCRIPTION:AG Gesundheitspolitik: 13.08.2020\, 20.00 Uhr: \nPreisgestaltung und freie Marktwirtschaft in der Apotheke\nWie funktioniert die freie Marktwirtschaft im Apothekenwesen? Wie entstehen die Arzneimittelpreise und wie setzten sich diese zusammen? Sind die Gewinnspannen moralisch vertretbar? Was ist das RxVV? Diese Fragen klären und diskutieren wir beim nächsten AG Meeting.
URL:https://www.bphd.de/event/ag-gesundheitspolitik-3/
CATEGORIES:AG-Treffen
END:VEVENT
BEGIN:VEVENT
DTSTART;TZID=Europe/Berlin:20200827T200000
DTEND;TZID=Europe/Berlin:20200827T220000
DTSTAMP:20260424T051103
CREATED:20200801T204622Z
LAST-MODIFIED:20200801T204622Z
UID:55159588-1598558400-1598565600@www.bphd.de
SUMMARY:AG Zukunft
DESCRIPTION:AG Zukunft: 27.08.20\, 20:00 Uhr: \nFinanzielle Hilfen im Studium\nDas Bundesausbildungsförderungsgesetz\, kurz BAföG\, unterstützt Studenten im Studium. Aber ist das BAföG mit dem Pharmaziestudium vereinbar? Welche weitere Finanzierungshilfen gibt es?\nLasst uns darüber diskutieren!
URL:https://www.bphd.de/event/ag-zukunft-3/
CATEGORIES:AG-Treffen
END:VEVENT
END:VCALENDAR