BEGIN:VCALENDAR
VERSION:2.0
PRODID:-//BPhD e. V. - ECPv6.15.20//NONSGML v1.0//EN
CALSCALE:GREGORIAN
METHOD:PUBLISH
X-ORIGINAL-URL:https://www.bphd.de
X-WR-CALDESC:Veranstaltungen für BPhD e. V.
REFRESH-INTERVAL;VALUE=DURATION:PT1H
X-Robots-Tag:noindex
X-PUBLISHED-TTL:PT1H
BEGIN:VTIMEZONE
TZID:Europe/Berlin
BEGIN:DAYLIGHT
TZOFFSETFROM:+0100
TZOFFSETTO:+0200
TZNAME:CEST
DTSTART:20190331T010000
END:DAYLIGHT
BEGIN:STANDARD
TZOFFSETFROM:+0200
TZOFFSETTO:+0100
TZNAME:CET
DTSTART:20191027T010000
END:STANDARD
BEGIN:DAYLIGHT
TZOFFSETFROM:+0100
TZOFFSETTO:+0200
TZNAME:CEST
DTSTART:20200329T010000
END:DAYLIGHT
BEGIN:STANDARD
TZOFFSETFROM:+0200
TZOFFSETTO:+0100
TZNAME:CET
DTSTART:20201025T010000
END:STANDARD
BEGIN:DAYLIGHT
TZOFFSETFROM:+0100
TZOFFSETTO:+0200
TZNAME:CEST
DTSTART:20210328T010000
END:DAYLIGHT
BEGIN:STANDARD
TZOFFSETFROM:+0200
TZOFFSETTO:+0100
TZNAME:CET
DTSTART:20211031T010000
END:STANDARD
END:VTIMEZONE
BEGIN:VEVENT
DTSTART;TZID=Europe/Berlin:20200601T200000
DTEND;TZID=Europe/Berlin:20200601T220000
DTSTAMP:20260424T072345
CREATED:20200603T072418Z
LAST-MODIFIED:20200603T072418Z
UID:55159165-1591041600-1591048800@www.bphd.de
SUMMARY:AG Jungpharm
DESCRIPTION:Die Umfrage zu Stressoren im PJ ist beendet und ausgewertet. Anhand dieser wollen wir gemeinsam die Stressoren zusammengetragen und Lösungen / stressreduzierende Möglichkeiten erarbeiten.
URL:https://www.bphd.de/event/ag-jungpharm-2/
CATEGORIES:AG-Treffen
ATTACH;FMTTYPE=image/png:https://www.bphd.de/wp-content/uploads/2020/05/AG_Jungpharm_Logo.png
END:VEVENT
BEGIN:VEVENT
DTSTART;TZID=Europe/Berlin:20200605T150000
DTEND;TZID=Europe/Berlin:20200605T160000
DTSTAMP:20260424T072345
CREATED:20200603T072144Z
LAST-MODIFIED:20200603T072144Z
UID:55159163-1591369200-1591372800@www.bphd.de
SUMMARY:OC Basics#6
DESCRIPTION:Jacqui und Jan besprechen die elektrophile und nukleophile Additionen. Die Anwendung der Reaktionen folgt ebenso an nennenswerten Namensreaktionen.
URL:https://www.bphd.de/event/oc-basics6/
LOCATION:PharmaNavi auf Twitch
CATEGORIES:PharmaNavi
ATTACH;FMTTYPE=image/png:https://www.bphd.de/wp-content/uploads/2020/04/Logo_PharmaNavi.png
END:VEVENT
BEGIN:VEVENT
DTSTART;TZID=Europe/Berlin:20200609T200000
DTEND;TZID=Europe/Berlin:20200609T220000
DTSTAMP:20260424T072345
CREATED:20200603T072547Z
LAST-MODIFIED:20200603T072547Z
UID:55159167-1591732800-1591740000@www.bphd.de
SUMMARY:AG Public Health
DESCRIPTION:Diesen Monat beginnt der Zeitraum für den Vampire Cup 2020. Deshalb wollen wir uns mit dem Thema Blutspende befassen und was dies zu Zeiten von Covid-19 bedeutet. Außerdem werfen wir einen Blick in die Zukunft und stellen gemeinsam für die nächste Zeit einen Kalender mit den wichtigsten Gesundheitstagen zusammen.
URL:https://www.bphd.de/event/ag-public-health-3/
CATEGORIES:AG-Treffen
ATTACH;FMTTYPE=image/png:https://www.bphd.de/wp-content/uploads/2020/05/AG_Public_H_Logo.png
END:VEVENT
BEGIN:VEVENT
DTSTART;TZID=Europe/Berlin:20200611T200000
DTEND;TZID=Europe/Berlin:20200611T220000
DTSTAMP:20260424T072345
CREATED:20200603T072748Z
LAST-MODIFIED:20200603T072748Z
UID:55159169-1591905600-1591912800@www.bphd.de
SUMMARY:AG Gesundheitspolitik
DESCRIPTION:Die aoDV ist vorbei und auch die AG Gesundheitspolitik startet in ein neues Semester. Am 11. Juni um 20 Uhr werten wir für uns die aoDV aus\, organisieren uns neu und legen schon einmal einige Ziele\, Themen und Projekte für dieses Semester fest. Dieses Meeting wird ein guter Einstieg in die AG Arbeit sein\, weil wir viele Dinge neu diskutieren und evaluieren werden. Ihr seid herzlich eingeladen mitzumachen!
URL:https://www.bphd.de/event/ag-gesundheitspolitik-2/
CATEGORIES:AG-Treffen
ATTACH;FMTTYPE=image/png:https://www.bphd.de/wp-content/uploads/2020/05/AG_Gesundheitspolitik_Logo.png
END:VEVENT
BEGIN:VEVENT
DTSTART;TZID=Europe/Berlin:20200625T200000
DTEND;TZID=Europe/Berlin:20200625T220000
DTSTAMP:20260424T072345
CREATED:20200603T073115Z
LAST-MODIFIED:20200603T073115Z
UID:55159171-1593115200-1593122400@www.bphd.de
SUMMARY:AG Zukunft
DESCRIPTION:
URL:https://www.bphd.de/event/ag-zukunft/
CATEGORIES:AG-Treffen
ATTACH;FMTTYPE=image/png:https://www.bphd.de/wp-content/uploads/2020/05/AG_Zukunft_Logo.png
END:VEVENT
END:VCALENDAR