BEGIN:VCALENDAR
VERSION:2.0
PRODID:-//BPhD e. V. - ECPv6.15.20//NONSGML v1.0//EN
CALSCALE:GREGORIAN
METHOD:PUBLISH
X-ORIGINAL-URL:https://www.bphd.de
X-WR-CALDESC:Veranstaltungen für BPhD e. V.
REFRESH-INTERVAL;VALUE=DURATION:PT1H
X-Robots-Tag:noindex
X-PUBLISHED-TTL:PT1H
BEGIN:VTIMEZONE
TZID:Europe/Berlin
BEGIN:DAYLIGHT
TZOFFSETFROM:+0100
TZOFFSETTO:+0200
TZNAME:CEST
DTSTART:20190331T010000
END:DAYLIGHT
BEGIN:STANDARD
TZOFFSETFROM:+0200
TZOFFSETTO:+0100
TZNAME:CET
DTSTART:20191027T010000
END:STANDARD
BEGIN:DAYLIGHT
TZOFFSETFROM:+0100
TZOFFSETTO:+0200
TZNAME:CEST
DTSTART:20200329T010000
END:DAYLIGHT
BEGIN:STANDARD
TZOFFSETFROM:+0200
TZOFFSETTO:+0100
TZNAME:CET
DTSTART:20201025T010000
END:STANDARD
BEGIN:DAYLIGHT
TZOFFSETFROM:+0100
TZOFFSETTO:+0200
TZNAME:CEST
DTSTART:20210328T010000
END:DAYLIGHT
BEGIN:STANDARD
TZOFFSETFROM:+0200
TZOFFSETTO:+0100
TZNAME:CET
DTSTART:20211031T010000
END:STANDARD
END:VTIMEZONE
BEGIN:VEVENT
DTSTART;TZID=Europe/Berlin:20200406T200000
DTEND;TZID=Europe/Berlin:20200406T220000
DTSTAMP:20260424T095945
CREATED:20200331T202239Z
LAST-MODIFIED:20200409T092844Z
UID:55158390-1586203200-1586210400@www.bphd.de
SUMMARY:oAG Treffen AG Jungpharm
DESCRIPTION:Als Thema gibt es dieses Mal das Alumninetzwerk. Dabei soll um folgende Fragen gehen: Was ist ein Alumni-Netzwerk (für euch)? Welche Ideen und Vorschläge habt ihr für das AN?  \nZudem wird es ein kleines Update zur Umfrage “Mental Health im PJ” geben.  \nhttps://global.gotomeeting.com/join/959287877 
URL:https://www.bphd.de/event/oag-treffen-ag-jungpharm/
CATEGORIES:AG-Treffen
ATTACH;FMTTYPE=image/png:https://www.bphd.de/wp-content/uploads/2020/01/Amts-Logo_GP2-e1501260365524.png
END:VEVENT
BEGIN:VEVENT
DTSTART;TZID=Europe/Berlin:20200407T200000
DTEND;TZID=Europe/Berlin:20200407T220000
DTSTAMP:20260424T095945
CREATED:20200117T185148Z
LAST-MODIFIED:20200409T092844Z
UID:1047-1586289600-1586296800@www.bphd.de
SUMMARY:AG public Health
DESCRIPTION:Wir haben jetzt einige Monate lang zusammen an Mental Health Kampagnen gearbeitet. Jetzt wollen wir gemeinsam einen Plan entwickeln\, wie das Ganze in der Mental Health Week einen krönenden Abschluss findet und gleichzeitig wie das Thema mentale Gesundheit in Zukunft einen Platz im Studienalltag findet.  \nhttps://global.gotomeeting.com/join/188426605 
URL:https://www.bphd.de/event/ag-public-health/
CATEGORIES:AG-Treffen
ATTACH;FMTTYPE=image/png:https://www.bphd.de/wp-content/uploads/2020/01/Public_H_Logo.png
END:VEVENT
BEGIN:VEVENT
DTSTART;TZID=Europe/Berlin:20200409T203000
DTEND;TZID=Europe/Berlin:20200409T220000
DTSTAMP:20260424T095945
CREATED:20200117T185050Z
LAST-MODIFIED:20200409T092730Z
UID:1045-1586464200-1586469600@www.bphd.de
SUMMARY:AG GP online Treffen
DESCRIPTION:Reinheitsprüfung von Suchtmitteln. Hat das in der Apotheke Platz? Auf der 127. BVT In Erlangen sind wir von der MV beauftragt worden uns mit dem Thema noch einmal etwas auseinanderzusetzten. Das wollen wir beim nächsten AG Meeting einmal machen und gemeinüber diskutieren.   \nhttps://global.gotomeeting.com/join/929420653 
URL:https://www.bphd.de/event/ag-gp-online-treffen/
CATEGORIES:AG-Treffen
ATTACH;FMTTYPE=image/png:https://www.bphd.de/wp-content/uploads/2020/01/Amts-Logo_GP2-e1501260365524.png
END:VEVENT
BEGIN:VEVENT
DTSTART;TZID=Europe/Berlin:20200410T120000
DTEND;TZID=Europe/Berlin:20200410T130000
DTSTAMP:20260424T095945
CREATED:20200409T094651Z
LAST-MODIFIED:20200409T095905Z
UID:55158494-1586520000-1586523600@www.bphd.de
SUMMARY:Chemie Basics: Redox-Reaktionen 3
DESCRIPTION:Dritte Runde Redox-Reaktionen mit Jacqui und Jan! Bearbeite den Übungszettel als Vor- oder Nachbereitung des Streams!
URL:https://www.bphd.de/event/chemie-basics-redox-reaktionen-3/
LOCATION:PharmaNavi auf Twitch
CATEGORIES:PharmaNavi
ATTACH;FMTTYPE=image/png:https://www.bphd.de/wp-content/uploads/2020/04/Logo_PharmaNavi.png
END:VEVENT
BEGIN:VEVENT
DTSTART;TZID=Europe/Berlin:20200415T170000
DTEND;TZID=Europe/Berlin:20200415T180000
DTSTAMP:20260424T095945
CREATED:20200406T144541Z
LAST-MODIFIED:20200409T100002Z
UID:55158468-1586970000-1586973600@www.bphd.de
SUMMARY:Pharmakologie: Lokalanästhetika
DESCRIPTION:Die Pharmakologie von Lokalanästhetika\, von Malte erklärt.
URL:https://www.bphd.de/event/pharmakologie-lokalanaesthetika/
CATEGORIES:PharmaNavi
ATTACH;FMTTYPE=image/png:https://www.bphd.de/wp-content/uploads/2020/04/Logo_PharmaNavi.png
END:VEVENT
BEGIN:VEVENT
DTSTART;TZID=Europe/Berlin:20200416T120000
DTEND;TZID=Europe/Berlin:20200416T130000
DTSTAMP:20260424T095945
CREATED:20200416T094403Z
LAST-MODIFIED:20200416T094403Z
UID:55158617-1587038400-1587042000@www.bphd.de
SUMMARY:Chemie Basics: Redox-Reaktionen 4
DESCRIPTION:Vierte Runde Redox-Reaktionen mit Jacqui und Jan! Es werden die Aufgaben besprochen und alles bereits gelernte angewendet und abgefragt. Mach den Übungszettel als Vor- oder Nachbereitung. Viel Spaß! 🙂
URL:https://www.bphd.de/event/chemie-basics-redox-reaktionen-4/
LOCATION:PharmaNavi auf Twitch
CATEGORIES:PharmaNavi
ATTACH;FMTTYPE=image/png:https://www.bphd.de/wp-content/uploads/2020/04/Logo_PharmaNavi.png
END:VEVENT
BEGIN:VEVENT
DTSTART;TZID=Europe/Berlin:20200417T150000
DTEND;TZID=Europe/Berlin:20200417T160000
DTSTAMP:20260424T095945
CREATED:20200409T081246Z
LAST-MODIFIED:20200409T100104Z
UID:55158486-1587135600-1587139200@www.bphd.de
SUMMARY:Grundlagen der IR Spektroskopie
DESCRIPTION:In diesem Stream geht es um die Prinzipien die hinter der IR-Spektroskopie stehen und wie man ein solches Spektrum auswertet.
URL:https://www.bphd.de/event/grundlagen-der-ir-spektroskopie/
LOCATION:PharmaNavi auf Twitch
CATEGORIES:PharmaNavi
ATTACH;FMTTYPE=image/png:https://www.bphd.de/wp-content/uploads/2020/04/Logo_PharmaNavi.png
END:VEVENT
BEGIN:VEVENT
DTSTART;TZID=Europe/Berlin:20200418T170000
DTEND;TZID=Europe/Berlin:20200418T180000
DTSTAMP:20260424T095945
CREATED:20200409T095807Z
LAST-MODIFIED:20200409T095807Z
UID:55158489-1587229200-1587232800@www.bphd.de
SUMMARY:Pharmakologie: Schmerzmittel
DESCRIPTION:Malte mit der Pharmakologie von Schmerzmitteln\, angefangen im Krankenhaus und aufgehört beim simplen Paracetamol\, was jeder aus der Apotheke kennt.
URL:https://www.bphd.de/event/pharmakologie-schmerzmittel/
LOCATION:PharmaNavi auf Twitch
CATEGORIES:PharmaNavi
ATTACH;FMTTYPE=image/png:https://www.bphd.de/wp-content/uploads/2020/04/Logo_PharmaNavi.png
END:VEVENT
BEGIN:VEVENT
DTSTART;VALUE=DATE:20200420
DTEND;VALUE=DATE:20200427
DTSTAMP:20260424T095945
CREATED:20200117T185245Z
LAST-MODIFIED:20200409T092730Z
UID:1049-1587340800-1587945599@www.bphd.de
SUMMARY:EPSA AC Lyon -ABGESAGT-
DESCRIPTION:
URL:https://www.bphd.de/event/epsa-ac-lyon/
CATEGORIES:EPSA Veranstaltung
END:VEVENT
BEGIN:VEVENT
DTSTART;TZID=Europe/Berlin:20200423T200000
DTEND;TZID=Europe/Berlin:20200423T213000
DTSTAMP:20260424T095945
CREATED:20200117T185327Z
LAST-MODIFIED:20200409T092730Z
UID:1051-1587672000-1587677400@www.bphd.de
SUMMARY:AG Zukunft online Treffen
DESCRIPTION:Telephonbuch beiseite – wir müssen reden. \nWir wollen gemeinsam darüber diskutieren\, wie mehr Kompezenzorientierung in unser Studium Einzug erhalten kann.   \nAlle Termine findet ihr auch online auf unserer Homepage\, dort könnt ihr die Termine auch ganz bequem in euren Kalender einspeichern lassen. Schaut gerne mal rein!  \n  \nFAQ Discord  Was ist Discord? Discord ist wie Skype\, Teamspeak oder GoTo ein Programm um Onlinekonferenzen zu machen. Discord verbindet hier ein umfangreiches Chat-Tool (ähnlich zu Slack) mit der Konferenzfunktion\, ist übersichtlich\, bedienerfreundlich und bietet dennoch viele Möglichkeiten.  Wie komme ich auf Discord? Discord hat ein „Server-System“. Ihr müsst euch dementsprechend einen Account anlegen und könnt dann dem BPhD-Server beitreten. Die Registration funktioniert über die offizielle Discord-Seite: https://discord.gg/ Link zu unserem Sverver: https://discord.gg/yVPFg9Z  Wo treffen wir uns? Auf dem Server gibt es ein Channel-System. Hierbei gibt es Sprach- und Textkanäle. Wir werden uns im Sprach-Channel „online-AG-Treffen“ treffen. Dieser erscheint automatisch links in der Leiste als Text-und Sprachchannel\, dem ihr dann beitreten könnt. Bei Schwierigkeiten bitte möglichst vor dem Chat bei mir melden.  Der Chat Wir beginnen die Treffen mit einer kurzen Vorstellungsrunde (Name\, Alter\, Semester) und erzählen kurz\, wie es uns geht. Es gibt eine Redeleitung\, die etwas durch das meeting leitet und auch eine „Tagesordnung“\, die ihr weiter oben findet. Anschließend gibt es ein Protokoll oder sonstiges Ergebnis des Meetings\, wie die Arbeit an einem Porsitionspapier. Im Chat selbst könnt ihr jederzeit eure Zustimmung durch ein “+” und eure Ablehnung durch ein “-” im Textchannel äußern. Für Wortbeiträge postet ihr eine „I“ oder\, wenn ihr auf jemand anderes reagieren wollt\, eine „II“.  Push-to-Talk Damit wir während des Chats möglichst wenig Störgeräusche haben\, bitten wir euch alle “Push-to-Talk” einzustellen. Wenn ihr übers Handy dabei seid\, habt ihr dann einen Button auf dem genau das auch drauf steht\, den ihr gedrückt halten müsst wenn ihr etwas sagen wollt. Solltet ihr am PC sein\, könnt ihr eine Taste(nkombination) für diese Funktion selbst festlegen. Das ganze funktioniert in den Einstellungen (Zahnrädchen unten neben eurem Namen) > Sprache & Video / Audio > Eingabemodus > Push-to-Talk 
URL:https://www.bphd.de/event/ag-zukunft-online-treffen-2/
CATEGORIES:AG-Treffen
ATTACH;FMTTYPE=image/png:https://www.bphd.de/wp-content/uploads/2020/01/Logo_AG-Zukunft_Hintergrund.png
END:VEVENT
BEGIN:VEVENT
DTSTART;TZID=Europe/Berlin:20200423T200000
DTEND;TZID=Europe/Berlin:20200423T220000
DTSTAMP:20260424T095945
CREATED:20200418T082031Z
LAST-MODIFIED:20200418T082031Z
UID:55158647-1587672000-1587679200@www.bphd.de
SUMMARY:Covid-19 im Fokus: Expertengespräch
DESCRIPTION:
URL:https://www.bphd.de/event/covid-19-im-fokus-expertengespraech/
LOCATION:Pharma4u
CATEGORIES:pharma4u
ATTACH;FMTTYPE=image/png:https://www.bphd.de/wp-content/uploads/2020/04/148x148_webcast_live.png
ORGANIZER;CN="Pharma4u":MAILTO:info@pharma4u.de
END:VEVENT
BEGIN:VEVENT
DTSTART;TZID=Europe/Berlin:20200428T180000
DTEND;TZID=Europe/Berlin:20200428T190000
DTSTAMP:20260424T095946
CREATED:20200416T094550Z
LAST-MODIFIED:20200416T094550Z
UID:55158619-1588096800-1588100400@www.bphd.de
SUMMARY:Einführung in GMP
DESCRIPTION:Anna erklärt die Grundlagen zur Good Manufacturing Practice\, kurz GMP.
URL:https://www.bphd.de/event/einfuehrung-in-gmp/
LOCATION:PharmaNavi auf Twitch
CATEGORIES:PharmaNavi
ATTACH;FMTTYPE=image/png:https://www.bphd.de/wp-content/uploads/2020/04/Logo_PharmaNavi.png
END:VEVENT
BEGIN:VEVENT
DTSTART;TZID=Europe/Berlin:20200429T170000
DTEND;TZID=Europe/Berlin:20200429T180000
DTSTAMP:20260424T095946
CREATED:20200416T094755Z
LAST-MODIFIED:20200416T094755Z
UID:55158621-1588179600-1588183200@www.bphd.de
SUMMARY:Pharmakologie: Hypnotika
DESCRIPTION:Malte mit der nächsten Folge zu Pharmako.
URL:https://www.bphd.de/event/pharmakologie-hypnotika/
LOCATION:PharmaNavi auf Twitch
CATEGORIES:PharmaNavi
ATTACH;FMTTYPE=image/png:https://www.bphd.de/wp-content/uploads/2020/04/Logo_PharmaNavi.png
END:VEVENT
BEGIN:VEVENT
DTSTART;TZID=Europe/Berlin:20200429T200000
DTEND;TZID=Europe/Berlin:20200429T220000
DTSTAMP:20260424T095946
CREATED:20200424T213116Z
LAST-MODIFIED:20200424T213116Z
UID:55158724-1588190400-1588197600@www.bphd.de
SUMMARY:Corona und Recht Spezial
DESCRIPTION:aus aktuellem Anlass bieten wir Ihnen kurzfristig ein zusätzliches Webinar am Mittwochabend\, den 29.04.2020 um 20:00 Uhr an. \nThema: Corona Recht Spezial \nReferenten: Dr. Alexander Ravati\, Augsburg und Lars Frohn\, Bonn \nInhalte: \nIn den letzten Tagen und Wochen haben sich zahlreiche Rechtsnormen aufgrund der Corona-Pandemie ergeben\, die das geltende Recht für Pharmazeuten erheblich modifizieren. In Zusammenarbeit mit den Ravati-Seminaren bietet pharma4u zusätzlich ein kompaktes Webinar an\, dass einen Überblick über die wichtigsten Änderungen gibt\, inklusive der erst am 22. April in Kraft getretenen SARS-COV-2-Arzneimittelversorgungsverordnung. \nDirekt zum Webinar: \nwww.pharma4u.de/apotheker/webinare/eingang \nWir wünschen Ihnen ein spannendes Webinar! \nDieses Webinar findet in Kooperation mit den Ravati-Seminaren statt und eignet sich ausdrücklich auch für Pharmaziestudierende und Pharmaziepraktikanten.\nDas Webinar ist kurzfristig angesetzt und daher nicht bei der BAK akkreditiert (keine Fortbildungspunkte). Eine LEO steht nicht zur Verfügung.
URL:https://www.bphd.de/event/corona-und-recht-spezial/
LOCATION:Pharma4u
CATEGORIES:pharma4u
ATTACH;FMTTYPE=image/png:https://www.bphd.de/wp-content/uploads/2020/04/148x148_webcast_live.png
ORGANIZER;CN="Pharma4u":MAILTO:info@pharma4u.de
END:VEVENT
END:VCALENDAR