BEGIN:VCALENDAR
VERSION:2.0
PRODID:-//BPhD e. V. - ECPv6.15.20//NONSGML v1.0//EN
CALSCALE:GREGORIAN
METHOD:PUBLISH
X-WR-CALNAME:BPhD e. V.
X-ORIGINAL-URL:https://www.bphd.de
X-WR-CALDESC:Veranstaltungen für BPhD e. V.
REFRESH-INTERVAL;VALUE=DURATION:PT1H
X-Robots-Tag:noindex
X-PUBLISHED-TTL:PT1H
BEGIN:VTIMEZONE
TZID:Europe/Berlin
BEGIN:DAYLIGHT
TZOFFSETFROM:+0100
TZOFFSETTO:+0200
TZNAME:CEST
DTSTART:20190331T010000
END:DAYLIGHT
BEGIN:STANDARD
TZOFFSETFROM:+0200
TZOFFSETTO:+0100
TZNAME:CET
DTSTART:20191027T010000
END:STANDARD
BEGIN:DAYLIGHT
TZOFFSETFROM:+0100
TZOFFSETTO:+0200
TZNAME:CEST
DTSTART:20200329T010000
END:DAYLIGHT
BEGIN:STANDARD
TZOFFSETFROM:+0200
TZOFFSETTO:+0100
TZNAME:CET
DTSTART:20201025T010000
END:STANDARD
BEGIN:DAYLIGHT
TZOFFSETFROM:+0100
TZOFFSETTO:+0200
TZNAME:CEST
DTSTART:20210328T010000
END:DAYLIGHT
BEGIN:STANDARD
TZOFFSETFROM:+0200
TZOFFSETTO:+0100
TZNAME:CET
DTSTART:20211031T010000
END:STANDARD
END:VTIMEZONE
BEGIN:VEVENT
DTSTART;TZID=Europe/Berlin:20200114T200000
DTEND;TZID=Europe/Berlin:20200114T220000
DTSTAMP:20260424T133513
CREATED:20200108T142943Z
LAST-MODIFIED:20200409T092844Z
UID:437-1579032000-1579039200@www.bphd.de
SUMMARY:AG Public Health online Treffen
DESCRIPTION:
URL:https://www.bphd.de/event/ag-public-health-online-treffen/
CATEGORIES:AG-Treffen
END:VEVENT
BEGIN:VEVENT
DTSTART;TZID=Europe/Berlin:20200118T200000
DTEND;TZID=Europe/Berlin:20200119T040000
DTSTAMP:20260424T133513
CREATED:20200108T144106Z
LAST-MODIFIED:20200409T092844Z
UID:439-1579377600-1579406400@www.bphd.de
SUMMARY:78. Ball der Pharmacie
DESCRIPTION:DAS REZEPT EINER GRANDIOSEN BALLNACHT \nWer jemals mit Arzneimitteln zu tun gehabt hat\, darf am Ball der Pharmacie in der Wiener Hofburg nicht fehlen.\n \nFür Ballbegeisterte gibt es am Ball der Pharmacie eine raffinierte Rezeptur\, die grenzenloses Tanzvergnügen garantiert: \nAm unterhaltsamen Ball der Pharmacie gilt nämlich traditionell das Motto „Schwingen statt Drängen“!\nEine charmante Aufforderung für alle leidenschafltichen Tänzer\, um in einem der prunkvollen Ballsäle der Wiener Hofburg zu den abwechslungsreichen Klängen der zahlreichen hochkarätigen Orchester und Bands das Tanzparkett zu erobern. Dabei kommen auch die internationalen Gäste in beste Walzerlaune\, die sich mit Apothekerinnen und Apothekern aus dem In- und Ausland\, Repräsentaten der Regierung sowie heimischen und internationalen Vertretern der Pharmawirtschaft zum traditionellen Stelldichein treffen. \nAls der Höhepunkt im vielseitigen Programm gelten die aufwändige Mitternachtseinlage gefolgt von der allseits beliebten Quadrille. \nGetanzt und gefeiert wird am Ball der Pharmacie übrigens bis in die frühen Morgenstunden.\nErst um vier Uhr wird nämlich – begleitet von „Brüderlein fein“ – das Tanzparkett geschlossen.\nMit diesem Rezept steht einer grandiosen Ballnacht garantiert nichts mehr im Wege!
URL:https://www.bphd.de/event/78-ball-der-pharmacie/
LOCATION:Hofburg Vienna\, Michaelerkuppel\, Wien\, 1010\, Österreich
CATEGORIES:Externe Veranstaltungen
ATTACH;FMTTYPE=image/png:https://www.bphd.de/wp-content/uploads/2020/01/Ball-der-Pharmazie.png
END:VEVENT
BEGIN:VEVENT
DTSTART;TZID=Europe/Berlin:20200123T200000
DTEND;TZID=Europe/Berlin:20200123T220000
DTSTAMP:20260424T133513
CREATED:20200108T144221Z
LAST-MODIFIED:20200409T092844Z
UID:444-1579809600-1579816800@www.bphd.de
SUMMARY:AG Zukunft online Treffen
DESCRIPTION:
URL:https://www.bphd.de/event/ag-zukunft-online-meeting/
CATEGORIES:AG-Treffen
END:VEVENT
BEGIN:VEVENT
DTSTART;TZID=Europe/Berlin:20200127T120000
DTEND;TZID=Europe/Berlin:20200127T130000
DTSTAMP:20260424T133513
CREATED:20200117T183356Z
LAST-MODIFIED:20200409T092844Z
UID:1026-1580126400-1580130000@www.bphd.de
SUMMARY:Anhörung zum Versandverbot im Petitionsausschuss
DESCRIPTION:Der 20-jährige Pharmaziestudent Benedikt Bühler hatte im vergangenen Jahr die erfolgreichste Online-Petition beim Bundestag eingereicht. Mehr als 400.000 Menschen fordern darin mit Bühler gemeinsam das Rx-Versandverbot. Der Student hatte die Petition im August vergangenen Jahres symbolisch an Thomas Müller übergeben\, der im Bundesgesundheitsministerium die Arzneimittel-Abteilung leitet. Der Termin für die Anhörung zur Petition steht auch schon seit Wochen fest: Am 27. Januar hat Bühler die Möglichkeit\, mit den Abgeordneten des Petitionsausschusses über das Rx-Versandverbot zu sprechen.
URL:https://www.bphd.de/event/anhoerung-zum-versandverbot-im-petitionsausschuss/
LOCATION:Marie-Elisabeth-Lüders Haus\, Berlin\, Deutschland
CATEGORIES:Externe Veranstaltungen
END:VEVENT
BEGIN:VEVENT
DTSTART;TZID=Europe/Berlin:20200127T193000
DTEND;TZID=Europe/Berlin:20200127T213000
DTSTAMP:20260424T133513
CREATED:20200108T144350Z
LAST-MODIFIED:20200409T092844Z
UID:446-1580153400-1580160600@www.bphd.de
SUMMARY:1. CP-Meeting
DESCRIPTION:
URL:https://www.bphd.de/event/1-cp-meeting/
CATEGORIES:BPhD Veranstaltung
END:VEVENT
BEGIN:VEVENT
DTSTART;TZID=Europe/Berlin:20200128T193000
DTEND;TZID=Europe/Berlin:20200128T213000
DTSTAMP:20260424T133513
CREATED:20200108T144420Z
LAST-MODIFIED:20200409T092844Z
UID:448-1580239800-1580247000@www.bphd.de
SUMMARY:2. CP-Meeting
DESCRIPTION:
URL:https://www.bphd.de/event/2-cp-meeting/
CATEGORIES:BPhD Veranstaltung
END:VEVENT
END:VCALENDAR